Workbook

Sheet Disclaimer
A1: CONFIDENTIALITY NOTICE: This report may contain information that is privileged, confidential and/or otherwise protected from disclosure to anyone other than its intended recipient(s). Any dissemination or use of this report or its contents by persons other than the intended recipient(s) is strictly prohibited.

Sheet Instructions
A1: The following Instructions are specific to the Claims Payment Accuracy Report due the 15th of every month.
A2: 7/1/2026 Update
A3: Sheet Names and Contents
A4: Disclaimer | B4: Confidendiality Notice.
A5: Instructions | B5: Sheet completion instructions.
A6: Claims Payment Accuracy Report 2026 | B6: Monthly Report, to be completed by the MCO Representative.
A7: 3-Month Rolling Totals | B7: Automated 3-month Report not to be edited by MCO representatives.
A9: Completion Instructions for Sheet "Claims Payment Accuracy Report 2026"
A10: Claims Payment Accuracy Report 2026 columns with definitions/instructions
A11: Monthly Claims Payment Accuracy Report MCO Name: Reporting Period (Month-Year): | B11: General Report Information to be filled by the MCO representative.
A14: Month /Year (MM-YYYY) | B14: Pre-filled reporting month.
A16: Number of Enrollees | B16: Count of MCO enrollees for reporting month.
A18: Claims Volume
A19: 1. Beginning Claims Inventory | B19: Count of claim inventory on the 1st of the reporting month.
A20: 2. Number of Claims Received (Reporting Month) | B20: Count of claims received during the reporting month.
A21: 3. Total Number of Claims Available for Processing | B21: Count of claims available for processing by the MCO.
A23: Number of Paid Claims
A24: 4a. Professional (837P)-M | B24: Count and Dollar Amount of 837P claims paid during the reporting month.
A25: 4b. Institutional (837I)-H | B25: Count and Dollar Amount of 837I claims paid during the reporting month.
A26: 4c. Pharmacy(NCPDP) | B26: Count and Dollar Amount of NCPDP claims paid during the reporting month.
A27: 5. Number of Denied Claims | B27: Count and Dollar Amount of Denied claims during the reporting month.
A28: 5a. Number of Clean Denied Claims | B28: Count and Dollar Amount of Clean Denied claims during the reporting month.
A29: 5b. Number of Unclean Denied Claims | B29: Count and Dollar Amount of Unclean Denied claims during the reporting month.
A30: 6. Total Claims Processed | B30: Count and Dollar Amount of Claims processed during the reporting month.
A31: 7. Total Claims Unprocessed | B31: Count and Dollar Amount of Claims claims unprocessed during the reporting month.
A33: Clean Claims Processing Time
A34: 8. Number of Claims Processed Within 10 Days | B34: Count and Percentage of Claims Processed Within 10 Days
A35: 9. Number of Claims Processed 11-15 Days | B35: Count and Percentage of Claims Processed Within 11-15 Days
A36: 10. Number of Claims Processed 16-30 Days | B36: Count and Percentage of Claims Processed Within 16-30 Days
A37: 11. Number of Claims Processed Over 30 Days | B37: Count and Percentage of Claims Processed Within 31-60 Days
A39: Claims Line Summary
A40: 12. Number of Denied Claim Lines (Administrative) | B40: Count and Dollar Amount of Denied Claim Lines (Administrative)
A41: 13. Number of Denied Claim Lines (Clinical) | B41: Count and Dollar Amount of Denied Claim Lines (Clinical)
A42: 14. Number of Paid Claim Lines | B42: Count and Dollar Amount of Paid Claim Lines
A43: 15. Total Claim Lines | B43: Count and Dollar Amount of Total Claim Lines
A45: Claims Payment Statistics
A46: 16. Average Paid Time (Stamped Received Date to Paid Date) | B46: Definition matches line name.
A48: Denial Claim Reasons
A49: Reason 1 | B49: Count and Percentage of MCO listed Denial Reason. Reasons can be added to the end of the list month over month but NOT moved, reorganized or removed.
A50: Reason 2 | B50: "
A51: Reason 3 | B51: "
A52: Reason 4 | B52: "
A53: Reason 5 | B53: "
A54: Reason 6 | B54: "
A55: Reason 7 | B55: "
A56: Reason 8 | B56: "
A57: Reason 9 | B57: "
A58: Reason 10 | B58: "
A59: Reason 11 | B59: "
A60: Reason 12 | B60: "
... A68: Reason 20 | B68: "

Sheet Claims Payment Report 2026
A1: Monthly Claims Payment Accuracy Report MCO Name: Reporting Period (Month-Year): | C1: 7/1/2026 Update
A4: Month /Year (MM-YYYY) | B4: 46143 | D4: 46174 | F4: 46204 | H4: 46235 | J4: 46266 | L4: 46296 | N4: 46327 | P4: 46357 | R4: 46388 | T4: 46419 | V4: 46447 | X4: 46478 | Z4: 46508 | AB4: 46539 | AD4: 46569 | AF4: 46600 | AH4: 46631 | AJ4: 46661 | AL4: 46692 | AN4: 46722 | AP4: 46753 | AR4: 46784 | AT4: 46813 | AV4: 46844 | AX4: 46874 | AZ4: 46905 | BB4: 46935 | BD4: 46966 | BF4: 46997 | BH4: 47027 | BJ4: 47058 | BL4: 47088 | BN4: 47119 | BP4: 47150 | BR4: 47178 | BT4: 47209 | BV4: 47239 | BX4: 47270 | BZ4: 47300 | CB4: 47331 | CD4: 47362 | CF4: 47392 | CH4: 47423 | CJ4: 47453 | CL4: 47484 | CN4: 47515 | CP4: 47543 | CR4: 47574
A6: Number of Enrollees
A8: Claims Volume | B8: Number | D8: Number | F8: Number | H8: Number | J8: Number | L8: Number | N8: Number | P8: Number | R8: Number | T8: Number | V8: Number | X8: Number | Z8: Number | AB8: Number | AD8: Number | AF8: Number | AH8: Number | AJ8: Number | AL8: Number | AN8: Number | AP8: Number | AR8: Number | AT8: Number | AV8: Number | AX8: Number | AZ8: Number | BB8: Number | BD8: Number | BF8: Number | BH8: Number | BJ8: Number | BL8: Number | BN8: Number | BP8: Number | BR8: Number | BT8: Number | BV8: Number | BX8: Number | BZ8: Number | CB8: Number | CD8: Number | CF8: Number | CH8: Number | CJ8: Number | CL8: Number | CN8: Number | CP8: Number | CR8: Number
A9: 1. Beginning Claims Inventory
A10: 2. Number of Claims Received (Reporting Month)
A11: 3. Total Number of Claims Available for Processing
A13: Number of Paid Claims | B13: Number | C13: Dollar Amount | D13: Number | E13: Dollar Amount | F13: Number | G13: Dollar Amount | H13: Number | I13: Dollar Amount | J13: Number | K13: Dollar Amount | L13: Number | M13: Dollar Amount | N13: Number | O13: Dollar Amount | P13: Number | Q13: Dollar Amount | R13: Number | S13: Dollar Amount | T13: Number | U13: Dollar Amount | V13: Number | W13: Dollar Amount | X13: Number | Y13: Dollar Amount | Z13: Number | AA13: Dollar Amount | AB13: Number | AC13: Dollar Amount | AD13: Number | AE13: Dollar Amount | AF13: Number | AG13: Dollar Amount | AH13: Number | AI13: Dollar Amount | AJ13: Number | AK13: Dollar Amount | AL13: Number | AM13: Dollar Amount | AN13: Number | AO13: Dollar Amount | AP13: Number | AQ13: Dollar Amount | AR13: Number | AS13: Dollar Amount | AT13: Number | AU13: Dollar Amount | AV13: Number | AW13: Dollar Amount | AX13: Number | AY13: Dollar Amount | AZ13: Number | BA13: Dollar Amount | BB13: Number | BC13: Dollar Amount | BD13: Number | BE13: Dollar Amount | BF13: Number | BG13: Dollar Amount | BH13: Number | BI13: Dollar Amount | BJ13: Number | BK13: Dollar Amount | BL13: Number | BM13: Dollar Amount | BN13: Number | BO13: Dollar Amount | BP13: Number | BQ13: Dollar Amount | BR13: Number | BS13: Dollar Amount | BT13: Number | BU13: Dollar Amount | BV13: Number | BW13: Dollar Amount | BX13: Number | BY13: Dollar Amount | BZ13: Number | CA13: Dollar Amount | CB13: Number | CC13: Dollar Amount | CD13: Number | CE13: Dollar Amount | CF13: Number | CG13: Dollar Amount | CH13: Number | CI13: Dollar Amount | CJ13: Number | CK13: Dollar Amount | CL13: Number | CM13: Dollar Amount | CN13: Number | CO13: Dollar Amount | CP13: Number | CQ13: Dollar Amount | CR13: Number | CS13: Dollar Amount
A14: 4a. Professional (837P)-M
A15: 4b. Institutional (837I)-H
A16: 4c. Pharmacy(NCPDP)
A17: 5. Number of Denied Claims
A18: 5a. Number of Clean Denied Claims
A19: 5b. Number of Unclean Denied Claims
A20: 6. Total Claims Processed
A21: 7. Total Claims Unprocessed
A23: Clean Claims Processing Time | B23: Number | C23: Percentage | D23: Number | E23: Percentage | F23: Number | G23: Percentage | H23: Number | I23: Percentage | J23: Number | K23: Percentage | L23: Number | M23: Percentage | N23: Number | O23: Percentage | P23: Number | Q23: Percentage | R23: Number | S23: Percentage | T23: Number | U23: Percentage | V23: Number | W23: Percentage | X23: Number | Y23: Percentage | Z23: Number | AA23: Percentage | AB23: Number | AC23: Percentage | AD23: Number | AE23: Percentage | AF23: Number | AG23: Percentage | AH23: Number | AI23: Percentage | AJ23: Number | AK23: Percentage | AL23: Number | AM23: Percentage | AN23: Number | AO23: Percentage | AP23: Number | AQ23: Percentage | AR23: Number | AS23: Percentage | AT23: Number | AU23: Percentage | AV23: Number | AW23: Percentage | AX23: Number | AY23: Percentage | AZ23: Number | BA23: Percentage | BB23: Number | BC23: Percentage | BD23: Number | BE23: Percentage | BF23: Number | BG23: Percentage | BH23: Number | BI23: Percentage | BJ23: Number | BK23: Percentage | BL23: Number | BM23: Percentage | BN23: Number | BO23: Percentage | BP23: Number | BQ23: Percentage | BR23: Number | BS23: Percentage | BT23: Number | BU23: Percentage | BV23: Number | BW23: Percentage | BX23: Number | BY23: Percentage | BZ23: Number | CA23: Percentage | CB23: Number | CC23: Percentage | CD23: Number | CE23: Percentage | CF23: Number | CG23: Percentage | CH23: Number | CI23: Percentage | CJ23: Number | CK23: Percentage | CL23: Number | CM23: Percentage | CN23: Number | CO23: Percentage | CP23: Number | CQ23: Percentage | CR23: Number | CS23: Percentage
A24: 8. Number of Claims Processed Within 10 Days
A25: 9. Number of Claims Processed 11-15 Days
A26: 10. Number of Claims Processed 16-30 Days
A27: 11. Number of Claims Processed Over 30 Days
A29: Claims Line Summary | B29: Number | C29: Dollar Amount | D29: Number | E29: Dollar Amount | F29: Number | G29: Dollar Amount | H29: Number | I29: Dollar Amount | J29: Number | K29: Dollar Amount | L29: Number | M29: Dollar Amount | N29: Number | O29: Dollar Amount | P29: Number | Q29: Dollar Amount | R29: Number | S29: Dollar Amount | T29: Number | U29: Dollar Amount | V29: Number | W29: Dollar Amount | X29: Number | Y29: Dollar Amount | Z29: Number | AA29: Dollar Amount | AB29: Number | AC29: Dollar Amount | AD29: Number | AE29: Dollar Amount | AF29: Number | AG29: Dollar Amount | AH29: Number | AI29: Dollar Amount | AJ29: Number | AK29: Dollar Amount | AL29: Number | AM29: Dollar Amount | AN29: Number | AO29: Dollar Amount | AP29: Number | AQ29: Dollar Amount | AR29: Number | AS29: Dollar Amount | AT29: Number | AU29: Dollar Amount | AV29: Number | AW29: Dollar Amount | AX29: Number | AY29: Dollar Amount | AZ29: Number | BA29: Dollar Amount | BB29: Number | BC29: Dollar Amount | BD29: Number | BE29: Dollar Amount | BF29: Number | BG29: Dollar Amount | BH29: Number | BI29: Dollar Amount | BJ29: Number | BK29: Dollar Amount | BL29: Number | BM29: Dollar Amount | BN29: Number | BO29: Dollar Amount | BP29: Number | BQ29: Dollar Amount | BR29: Number | BS29: Dollar Amount | BT29: Number | BU29: Dollar Amount | BV29: Number | BW29: Dollar Amount | BX29: Number | BY29: Dollar Amount | BZ29: Number | CA29: Dollar Amount | CB29: Number | CC29: Dollar Amount | CD29: Number | CE29: Dollar Amount | CF29: Number | CG29: Dollar Amount | CH29: Number | CI29: Dollar Amount | CJ29: Number | CK29: Dollar Amount | CL29: Number | CM29: Dollar Amount | CN29: Number | CO29: Dollar Amount | CP29: Number | CQ29: Dollar Amount | CR29: Number | CS29: Dollar Amount
A30: 12. Number of Denied Claim Lines (Administrative)
A31: 13. Number of Denied Claim Lines (Clinical)
A32: 14. Number of Paid Claim Lines
A33: 15. Total Claim Lines
A35: Claims Payment Statistics | B35: Number | D35: Number | F35: Number | H35: Number | J35: Number | L35: Number | N35: Number | P35: Number | R35: Number | T35: Number | V35: Number | X35: Number | Z35: Number | AB35: Number | AD35: Number | AF35: Number | AH35: Number | AJ35: Number | AL35: Number | AN35: Number | AP35: Number | AR35: Number | AT35: Number | AV35: Number | AX35: Number | AZ35: Number | BB35: Number | BD35: Number | BF35: Number | BH35: Number | BJ35: Number | BL35: Number | BN35: Number | BP35: Number | BR35: Number | BT35: Number | BV35: Number | BX35: Number | BZ35: Number | CB35: Number | CD35: Number | CF35: Number | CH35: Number | CJ35: Number | CL35: Number | CN35: Number | CP35: Number | CR35: Number
A36: 16. Average Paid Time (Stamped Received Date to Paid Date)
A38: Denial Claim Reasons | B38: Number | C38: Percentage | D38: Number | E38: Percentage | F38: Number | G38: Percentage | H38: Number | I38: Percentage | J38: Number | K38: Percentage | L38: Number | M38: Percentage | N38: Number | O38: Percentage | P38: Number | Q38: Percentage | R38: Number | S38: Percentage | T38: Number | U38: Percentage | V38: Number | W38: Percentage | X38: Number | Y38: Percentage | Z38: Number | AA38: Percentage | AB38: Number | AC38: Percentage | AD38: Number | AE38: Percentage | AF38: Number | AG38: Percentage | AH38: Number | AI38: Percentage | AJ38: Number | AK38: Percentage | AL38: Number | AM38: Percentage | AN38: Number | AO38: Percentage | AP38: Number | AQ38: Percentage | AR38: Number | AS38: Percentage | AT38: Number | AU38: Percentage | AV38: Number | AW38: Percentage | AX38: Number | AY38: Percentage | AZ38: Number | BA38: Percentage | BB38: Number | BC38: Percentage | BD38: Number | BE38: Percentage | BF38: Number | BG38: Percentage | BH38: Number | BI38: Percentage | BJ38: Number | BK38: Percentage | BL38: Number | BM38: Percentage | BN38: Number | BO38: Percentage | BP38: Number | BQ38: Percentage | BR38: Number | BS38: Percentage | BT38: Number | BU38: Percentage | BV38: Number | BW38: Percentage | BX38: Number | BY38: Percentage | BZ38: Number | CA38: Percentage | CB38: Number | CC38: Percentage | CD38: Number | CE38: Percentage | CF38: Number | CG38: Percentage | CH38: Number | CI38: Percentage | CJ38: Number | CK38: Percentage | CL38: Number | CM38: Percentage | CN38: Number | CO38: Percentage | CP38: Number | CQ38: Percentage | CR38: Number | CS38: Percentage
A39: Reason 1
A40: Reason 2
A41: Reason 3
A42: Reason 4
A43: Reason 5
A44: Reason 6
A45: Reason 7
A46: Reason 8
A47: Reason 9
A48: Reason 10
A49: Reason 11
A50: Reason 12
... A58: Reason 20

Sheet 3-Month Rolling Totals
A1: {=CELL("contents",'Claims Payment Report 2026'!A1:A3)} -> Monthly Claims Payment Accuracy Report MCO Name: Reporting Period (Month-Year): | B1: AUTOMATED SHEET, DO NOT EDIT
B3: Beginning Month | C3: 46143 | D3: Beginning Month | E3: 46174 | F3: Beginning Month | G3: 46204 | H3: Beginning Month | I3: 46235 | J3: Beginning Month | K3: 46266 | L3: Beginning Month | M3: 46296 | N3: Beginning Month | O3: 46327 | P3: Beginning Month | Q3: 46357 | R3: Beginning Month | S3: 46388 | T3: Beginning Month | U3: 46419 | V3: Beginning Month | W3: 46447 | X3: Beginning Month | Y3: 46478 | Z3: Beginning Month | AA3: 46508
A4: Month /Year (MM-YYYY) | B4: Final Month | C4: 46204 | D4: Final Month | E4: 46235 | F4: Final Month | G4: 46266 | H4: Final Month | I4: 46296 | J4: Final Month | K4: 46327 | L4: Final Month | M4: 46357 | N4: Final Month | O4: 46388 | P4: Final Month | Q4: 46419 | R4: Final Month | S4: 46447 | T4: Final Month | U4: 46478 | V4: Final Month | W4: 46508 | X4: Final Month | Y4: 46539 | Z4: Final Month | AA4: 46569
A6: Number of Enrollees | B6: =SUM('Claims Payment Report 2026'!B6:G6) -> 0 | D6: =SUM('Claims Payment Report 2026'!D6:I6) -> 0 | F6: =SUM('Claims Payment Report 2026'!F6:K6) -> 0 | H6: =SUM('Claims Payment Report 2026'!H6:M6) -> 0 | J6: =SUM('Claims Payment Report 2026'!J6:O6) -> 0 | L6: =SUM('Claims Payment Report 2026'!L6:Q6) -> 0 | N6: =SUM('Claims Payment Report 2026'!N6:S6) -> 0 | P6: =SUM('Claims Payment Report 2026'!P6:U6) -> 0 | R6: =SUM('Claims Payment Report 2026'!R6:W6) -> 0 | T6: =SUM('Claims Payment Report 2026'!T6:Y6) -> 0 | V6: =SUM('Claims Payment Report 2026'!V6:AA6) -> 0 | X6: =SUM('Claims Payment Report 2026'!X6:AC6) -> 0 | Z6: =SUM('Claims Payment Report 2026'!Z6:AE6) -> 0
A8: Claims Volume | B8: Number | D8: Number | F8: Number | H8: Number | J8: Number | L8: Number | N8: Number | P8: Number | R8: Number | T8: Number | V8: Number | X8: Number | Z8: Number
A9: 1. Beginning Claims Inventory | B9: =SUM('Claims Payment Report 2026'!B9:G9) -> 0 | D9: =SUM('Claims Payment Report 2026'!D9:I9) -> 0 | F9: =SUM('Claims Payment Report 2026'!F9:K9) -> 0 | H9: =SUM('Claims Payment Report 2026'!H9:M9) -> 0 | J9: =SUM('Claims Payment Report 2026'!J9:O9) -> 0 | L9: =SUM('Claims Payment Report 2026'!L9:Q9) -> 0 | N9: =SUM('Claims Payment Report 2026'!N9:S9) -> 0 | P9: =SUM('Claims Payment Report 2026'!P9:U9) -> 0 | R9: =SUM('Claims Payment Report 2026'!R9:W9) -> 0 | T9: =SUM('Claims Payment Report 2026'!T9:Y9) -> 0 | V9: =SUM('Claims Payment Report 2026'!V9:AA9) -> 0 | X9: =SUM('Claims Payment Report 2026'!X9:AC9) -> 0 | Z9: =SUM('Claims Payment Report 2026'!Z9:AE9) -> 0
A10: 2. Number of Claims Received (Reporting Month) | B10: =SUM('Claims Payment Report 2026'!B10:G10) -> 0 | D10: =SUM('Claims Payment Report 2026'!D10:I10) -> 0 | F10: =SUM('Claims Payment Report 2026'!F10:K10) -> 0 | H10: =SUM('Claims Payment Report 2026'!H10:M10) -> 0 | J10: =SUM('Claims Payment Report 2026'!J10:O10) -> 0 | L10: =SUM('Claims Payment Report 2026'!L10:Q10) -> 0 | N10: =SUM('Claims Payment Report 2026'!N10:S10) -> 0 | P10: =SUM('Claims Payment Report 2026'!P10:U10) -> 0 | R10: =SUM('Claims Payment Report 2026'!R10:W10) -> 0 | T10: =SUM('Claims Payment Report 2026'!T10:Y10) -> 0 | V10: =SUM('Claims Payment Report 2026'!V10:AA10) -> 0 | X10: =SUM('Claims Payment Report 2026'!X10:AC10) -> 0 | Z10: =SUM('Claims Payment Report 2026'!Z10:AE10) -> 0
A11: 3. Total Number of Claims Available for Processing | B11: =SUM('Claims Payment Report 2026'!B11:G11) -> 0 | D11: =SUM('Claims Payment Report 2026'!D11:I11) -> 0 | F11: =SUM('Claims Payment Report 2026'!F11:K11) -> 0 | H11: =SUM('Claims Payment Report 2026'!H11:M11) -> 0 | J11: =SUM('Claims Payment Report 2026'!J11:O11) -> 0 | L11: =SUM('Claims Payment Report 2026'!L11:Q11) -> 0 | N11: =SUM('Claims Payment Report 2026'!N11:S11) -> 0 | P11: =SUM('Claims Payment Report 2026'!P11:U11) -> 0 | R11: =SUM('Claims Payment Report 2026'!R11:W11) -> 0 | T11: =SUM('Claims Payment Report 2026'!T11:Y11) -> 0 | V11: =SUM('Claims Payment Report 2026'!V11:AA11) -> 0 | X11: =SUM('Claims Payment Report 2026'!X11:AC11) -> 0 | Z11: =SUM('Claims Payment Report 2026'!Z11:AE11) -> 0
A13: Number of Paid Claims | B13: Number | C13: Dollar Amount | D13: Number | E13: Dollar Amount | F13: Number | G13: Dollar Amount | H13: Number | I13: Dollar Amount | J13: Number | K13: Dollar Amount | L13: Number | M13: Dollar Amount | N13: Number | O13: Dollar Amount | P13: Number | Q13: Dollar Amount | R13: Number | S13: Dollar Amount | T13: Number | U13: Dollar Amount | V13: Number | W13: Dollar Amount | X13: Number | Y13: Dollar Amount | Z13: Number | AA13: Dollar Amount
A14: 4a. Professional (837P)-M | B14: =SUM('Claims Payment Report 2026'!B14,'Claims Payment Report 2026'!D14,'Claims Payment Report 2026'!F14) -> 0 | C14: =SUM('Claims Payment Report 2026'!C14,'Claims Payment Report 2026'!E14,'Claims Payment Report 2026'!G14) -> 0 | D14: =SUM('Claims Payment Report 2026'!D14,'Claims Payment Report 2026'!F14,'Claims Payment Report 2026'!H14) -> 0 | E14: =SUM('Claims Payment Report 2026'!E14,'Claims Payment Report 2026'!G14,'Claims Payment Report 2026'!I14) -> 0 | F14: =SUM('Claims Payment Report 2026'!F14,'Claims Payment Report 2026'!H14,'Claims Payment Report 2026'!J14) -> 0 | G14: =SUM('Claims Payment Report 2026'!G14,'Claims Payment Report 2026'!I14,'Claims Payment Report 2026'!K14) -> 0 | H14: =SUM('Claims Payment Report 2026'!H14,'Claims Payment Report 2026'!J14,'Claims Payment Report 2026'!L14) -> 0 | I14: =SUM('Claims Payment Report 2026'!I14,'Claims Payment Report 2026'!K14,'Claims Payment Report 2026'!M14) -> 0 | ... AA14: =SUM('Claims Payment Report 2026'!AA14,'Claims Payment Report 2026'!AC14,'Claims Payment Report 2026'!AE14) -> 0
A15: 4b. Institutional (837I)-H | B15: =SUM('Claims Payment Report 2026'!B15,'Claims Payment Report 2026'!D15,'Claims Payment Report 2026'!F15) -> 0 | C15: =SUM('Claims Payment Report 2026'!C15,'Claims Payment Report 2026'!E15,'Claims Payment Report 2026'!G15) -> 0 | D15: =SUM('Claims Payment Report 2026'!D15,'Claims Payment Report 2026'!F15,'Claims Payment Report 2026'!H15) -> 0 | E15: =SUM('Claims Payment Report 2026'!E15,'Claims Payment Report 2026'!G15,'Claims Payment Report 2026'!I15) -> 0 | F15: =SUM('Claims Payment Report 2026'!F15,'Claims Payment Report 2026'!H15,'Claims Payment Report 2026'!J15) -> 0 | G15: =SUM('Claims Payment Report 2026'!G15,'Claims Payment Report 2026'!I15,'Claims Payment Report 2026'!K15) -> 0 | H15: =SUM('Claims Payment Report 2026'!H15,'Claims Payment Report 2026'!J15,'Claims Payment Report 2026'!L15) -> 0 | I15: =SUM('Claims Payment Report 2026'!I15,'Claims Payment Report 2026'!K15,'Claims Payment Report 2026'!M15) -> 0 | ... AA15: =SUM('Claims Payment Report 2026'!AA15,'Claims Payment Report 2026'!AC15,'Claims Payment Report 2026'!AE15) -> 0
A16: 4c. Pharmacy(NCPDP) | B16: =SUM('Claims Payment Report 2026'!B16,'Claims Payment Report 2026'!D16,'Claims Payment Report 2026'!F16) -> 0 | C16: =SUM('Claims Payment Report 2026'!C16,'Claims Payment Report 2026'!E16,'Claims Payment Report 2026'!G16) -> 0 | D16: =SUM('Claims Payment Report 2026'!D16,'Claims Payment Report 2026'!F16,'Claims Payment Report 2026'!H16) -> 0 | E16: =SUM('Claims Payment Report 2026'!E16,'Claims Payment Report 2026'!G16,'Claims Payment Report 2026'!I16) -> 0 | F16: =SUM('Claims Payment Report 2026'!F16,'Claims Payment Report 2026'!H16,'Claims Payment Report 2026'!J16) -> 0 | G16: =SUM('Claims Payment Report 2026'!G16,'Claims Payment Report 2026'!I16,'Claims Payment Report 2026'!K16) -> 0 | H16: =SUM('Claims Payment Report 2026'!H16,'Claims Payment Report 2026'!J16,'Claims Payment Report 2026'!L16) -> 0 | I16: =SUM('Claims Payment Report 2026'!I16,'Claims Payment Report 2026'!K16,'Claims Payment Report 2026'!M16) -> 0 | ... AA16: =SUM('Claims Payment Report 2026'!AA16,'Claims Payment Report 2026'!AC16,'Claims Payment Report 2026'!AE16) -> 0
A17: 5. Number of Denied Claims | B17: =SUM('Claims Payment Report 2026'!B17,'Claims Payment Report 2026'!D17,'Claims Payment Report 2026'!F17) -> 0 | C17: =SUM('Claims Payment Report 2026'!C17,'Claims Payment Report 2026'!E17,'Claims Payment Report 2026'!G17) -> 0 | D17: =SUM('Claims Payment Report 2026'!D17,'Claims Payment Report 2026'!F17,'Claims Payment Report 2026'!H17) -> 0 | E17: =SUM('Claims Payment Report 2026'!E17,'Claims Payment Report 2026'!G17,'Claims Payment Report 2026'!I17) -> 0 | F17: =SUM('Claims Payment Report 2026'!F17,'Claims Payment Report 2026'!H17,'Claims Payment Report 2026'!J17) -> 0 | G17: =SUM('Claims Payment Report 2026'!G17,'Claims Payment Report 2026'!I17,'Claims Payment Report 2026'!K17) -> 0 | H17: =SUM('Claims Payment Report 2026'!H17,'Claims Payment Report 2026'!J17,'Claims Payment Report 2026'!L17) -> 0 | I17: =SUM('Claims Payment Report 2026'!I17,'Claims Payment Report 2026'!K17,'Claims Payment Report 2026'!M17) -> 0 | ... AA17: =SUM('Claims Payment Report 2026'!AA17,'Claims Payment Report 2026'!AC17,'Claims Payment Report 2026'!AE17) -> 0
A18: 5a. Number of Clean Denied Claims | B18: =SUM('Claims Payment Report 2026'!B18,'Claims Payment Report 2026'!D18,'Claims Payment Report 2026'!F18) -> 0 | C18: =SUM('Claims Payment Report 2026'!C18,'Claims Payment Report 2026'!E18,'Claims Payment Report 2026'!G18) -> 0 | D18: =SUM('Claims Payment Report 2026'!D18,'Claims Payment Report 2026'!F18,'Claims Payment Report 2026'!H18) -> 0 | E18: =SUM('Claims Payment Report 2026'!E18,'Claims Payment Report 2026'!G18,'Claims Payment Report 2026'!I18) -> 0 | F18: =SUM('Claims Payment Report 2026'!F18,'Claims Payment Report 2026'!H18,'Claims Payment Report 2026'!J18) -> 0 | G18: =SUM('Claims Payment Report 2026'!G18,'Claims Payment Report 2026'!I18,'Claims Payment Report 2026'!K18) -> 0 | H18: =SUM('Claims Payment Report 2026'!H18,'Claims Payment Report 2026'!J18,'Claims Payment Report 2026'!L18) -> 0 | I18: =SUM('Claims Payment Report 2026'!I18,'Claims Payment Report 2026'!K18,'Claims Payment Report 2026'!M18) -> 0 | ... AA18: =SUM('Claims Payment Report 2026'!AA18,'Claims Payment Report 2026'!AC18,'Claims Payment Report 2026'!AE18) -> 0
A19: 5b. Number of Unclean Denied Claims | B19: =SUM('Claims Payment Report 2026'!B19,'Claims Payment Report 2026'!D19,'Claims Payment Report 2026'!F19) -> 0 | C19: =SUM('Claims Payment Report 2026'!C19,'Claims Payment Report 2026'!E19,'Claims Payment Report 2026'!G19) -> 0 | D19: =SUM('Claims Payment Report 2026'!D19,'Claims Payment Report 2026'!F19,'Claims Payment Report 2026'!H19) -> 0 | E19: =SUM('Claims Payment Report 2026'!E19,'Claims Payment Report 2026'!G19,'Claims Payment Report 2026'!I19) -> 0 | F19: =SUM('Claims Payment Report 2026'!F19,'Claims Payment Report 2026'!H19,'Claims Payment Report 2026'!J19) -> 0 | G19: =SUM('Claims Payment Report 2026'!G19,'Claims Payment Report 2026'!I19,'Claims Payment Report 2026'!K19) -> 0 | H19: =SUM('Claims Payment Report 2026'!H19,'Claims Payment Report 2026'!J19,'Claims Payment Report 2026'!L19) -> 0 | I19: =SUM('Claims Payment Report 2026'!I19,'Claims Payment Report 2026'!K19,'Claims Payment Report 2026'!M19) -> 0 | ... AA19: =SUM('Claims Payment Report 2026'!AA19,'Claims Payment Report 2026'!AC19,'Claims Payment Report 2026'!AE19) -> 0
A20: 6. Total Claims Processed | B20: =SUM('Claims Payment Report 2026'!B20,'Claims Payment Report 2026'!D20,'Claims Payment Report 2026'!F20) -> 0 | C20: =SUM('Claims Payment Report 2026'!C20,'Claims Payment Report 2026'!E20,'Claims Payment Report 2026'!G20) -> 0 | D20: =SUM('Claims Payment Report 2026'!D20,'Claims Payment Report 2026'!F20,'Claims Payment Report 2026'!H20) -> 0 | E20: =SUM('Claims Payment Report 2026'!E20,'Claims Payment Report 2026'!G20,'Claims Payment Report 2026'!I20) -> 0 | F20: =SUM('Claims Payment Report 2026'!F20,'Claims Payment Report 2026'!H20,'Claims Payment Report 2026'!J20) -> 0 | G20: =SUM('Claims Payment Report 2026'!G20,'Claims Payment Report 2026'!I20,'Claims Payment Report 2026'!K20) -> 0 | H20: =SUM('Claims Payment Report 2026'!H20,'Claims Payment Report 2026'!J20,'Claims Payment Report 2026'!L20) -> 0 | I20: =SUM('Claims Payment Report 2026'!I20,'Claims Payment Report 2026'!K20,'Claims Payment Report 2026'!M20) -> 0 | ... AA20: =SUM('Claims Payment Report 2026'!AA20,'Claims Payment Report 2026'!AC20,'Claims Payment Report 2026'!AE20) -> 0
A21: 7. Total Claims Unprocessed | B21: =SUM('Claims Payment Report 2026'!B21,'Claims Payment Report 2026'!D21,'Claims Payment Report 2026'!F21) -> 0 | C21: =SUM('Claims Payment Report 2026'!C21,'Claims Payment Report 2026'!E21,'Claims Payment Report 2026'!G21) -> 0 | D21: =SUM('Claims Payment Report 2026'!D21,'Claims Payment Report 2026'!F21,'Claims Payment Report 2026'!H21) -> 0 | E21: =SUM('Claims Payment Report 2026'!E21,'Claims Payment Report 2026'!G21,'Claims Payment Report 2026'!I21) -> 0 | F21: =SUM('Claims Payment Report 2026'!F21,'Claims Payment Report 2026'!H21,'Claims Payment Report 2026'!J21) -> 0 | G21: =SUM('Claims Payment Report 2026'!G21,'Claims Payment Report 2026'!I21,'Claims Payment Report 2026'!K21) -> 0 | H21: =SUM('Claims Payment Report 2026'!H21,'Claims Payment Report 2026'!J21,'Claims Payment Report 2026'!L21) -> 0 | I21: =SUM('Claims Payment Report 2026'!I21,'Claims Payment Report 2026'!K21,'Claims Payment Report 2026'!M21) -> 0 | ... AA21: =SUM('Claims Payment Report 2026'!AA21,'Claims Payment Report 2026'!AC21,'Claims Payment Report 2026'!AE21) -> 0
A23: Clean Claims Processing Time | B23: Number | C23: Percentage | D23: Number | E23: Percentage | F23: Number | G23: Percentage | H23: Number | I23: Percentage | J23: Number | K23: Percentage | L23: Number | M23: Percentage | N23: Number | O23: Percentage | P23: Number | Q23: Percentage | R23: Number | S23: Percentage | T23: Number | U23: Percentage | V23: Number | W23: Percentage | X23: Number | Y23: Percentage | Z23: Number | AA23: Percentage
A24: 8. Number of Claims Processed Within 10 Days | B24: =SUM('Claims Payment Report 2026'!B24,'Claims Payment Report 2026'!D24,'Claims Payment Report 2026'!F24) -> 0 | C24: =B24/(SUM(B$24:B$27)) -> #DIV/0! | D24: =SUM('Claims Payment Report 2026'!D24,'Claims Payment Report 2026'!F24,'Claims Payment Report 2026'!H24) -> 0 | E24: =D24/(SUM(D$24:D$27)) -> #DIV/0! | F24: =SUM('Claims Payment Report 2026'!F24,'Claims Payment Report 2026'!H24,'Claims Payment Report 2026'!J24) -> 0 | G24: =F24/(SUM(F$24:F$27)) -> #DIV/0! | H24: =SUM('Claims Payment Report 2026'!H24,'Claims Payment Report 2026'!J24,'Claims Payment Report 2026'!L24) -> 0 | I24: =H24/(SUM(H$24:H$27)) -> #DIV/0! | J24: =SUM('Claims Payment Report 2026'!J24,'Claims Payment Report 2026'!L24,'Claims Payment Report 2026'!N24) -> 0 | K24: =J24/(SUM(J$24:J$27)) -> #DIV/0! | L24: =SUM('Claims Payment Report 2026'!L24,'Claims Payment Report 2026'!N24,'Claims Payment Report 2026'!P24) -> 0 | M24: =L24/(SUM(L$24:L$27)) -> #DIV/0! | N24: =SUM('Claims Payment Report 2026'!N24,'Claims Payment Report 2026'!P24,'Claims Payment Report 2026'!R24) -> 0 | O24: =N24/(SUM(N$24:N$27)) -> #DIV/0! | P24: =SUM('Claims Payment Report 2026'!P24,'Claims Payment Report 2026'!R24,'Claims Payment Report 2026'!T24) -> 0 | Q24: =P24/(SUM(P$24:P$27)) -> #DIV/0! | R24: =SUM('Claims Payment Report 2026'!R24,'Claims Payment Report 2026'!T24,'Claims Payment Report 2026'!V24) -> 0 | S24: =R24/(SUM(R$24:R$27)) -> #DIV/0! | T24: =SUM('Claims Payment Report 2026'!T24,'Claims Payment Report 2026'!V24,'Claims Payment Report 2026'!X24) -> 0 | U24: =T24/(SUM(T$24:T$27)) -> #DIV/0! | V24: =SUM('Claims Payment Report 2026'!V24,'Claims Payment Report 2026'!X24,'Claims Payment Report 2026'!Z24) -> 0 | W24: =V24/(SUM(V$24:V$27)) -> #DIV/0! | X24: =SUM('Claims Payment Report 2026'!X24,'Claims Payment Report 2026'!Z24,'Claims Payment Report 2026'!AB24) -> 0 | Y24: =X24/(SUM(X$24:X$27)) -> #DIV/0! | Z24: =SUM('Claims Payment Report 2026'!Z24,'Claims Payment Report 2026'!AB24,'Claims Payment Report 2026'!AD24) -> 0 | AA24: =Z24/(SUM(Z$24:Z$27)) -> #DIV/0!
A25: 9. Number of Claims Processed 11-15 Days | B25: =SUM('Claims Payment Report 2026'!B25,'Claims Payment Report 2026'!D25,'Claims Payment Report 2026'!F25) -> 0 | C25: =B25/(SUM(B$24:B$27)) -> #DIV/0! | D25: =SUM('Claims Payment Report 2026'!D25,'Claims Payment Report 2026'!F25,'Claims Payment Report 2026'!H25) -> 0 | E25: =D25/(SUM(D$24:D$27)) -> #DIV/0! | F25: =SUM('Claims Payment Report 2026'!F25,'Claims Payment Report 2026'!H25,'Claims Payment Report 2026'!J25) -> 0 | G25: =F25/(SUM(F$24:F$27)) -> #DIV/0! | H25: =SUM('Claims Payment Report 2026'!H25,'Claims Payment Report 2026'!J25,'Claims Payment Report 2026'!L25) -> 0 | I25: =H25/(SUM(H$24:H$27)) -> #DIV/0! | J25: =SUM('Claims Payment Report 2026'!J25,'Claims Payment Report 2026'!L25,'Claims Payment Report 2026'!N25) -> 0 | K25: =J25/(SUM(J$24:J$27)) -> #DIV/0! | L25: =SUM('Claims Payment Report 2026'!L25,'Claims Payment Report 2026'!N25,'Claims Payment Report 2026'!P25) -> 0 | M25: =L25/(SUM(L$24:L$27)) -> #DIV/0! | N25: =SUM('Claims Payment Report 2026'!N25,'Claims Payment Report 2026'!P25,'Claims Payment Report 2026'!R25) -> 0 | O25: =N25/(SUM(N$24:N$27)) -> #DIV/0! | P25: =SUM('Claims Payment Report 2026'!P25,'Claims Payment Report 2026'!R25,'Claims Payment Report 2026'!T25) -> 0 | Q25: =P25/(SUM(P$24:P$27)) -> #DIV/0! | R25: =SUM('Claims Payment Report 2026'!R25,'Claims Payment Report 2026'!T25,'Claims Payment Report 2026'!V25) -> 0 | S25: =R25/(SUM(R$24:R$27)) -> #DIV/0! | T25: =SUM('Claims Payment Report 2026'!T25,'Claims Payment Report 2026'!V25,'Claims Payment Report 2026'!X25) -> 0 | U25: =T25/(SUM(T$24:T$27)) -> #DIV/0! | V25: =SUM('Claims Payment Report 2026'!V25,'Claims Payment Report 2026'!X25,'Claims Payment Report 2026'!Z25) -> 0 | W25: =V25/(SUM(V$24:V$27)) -> #DIV/0! | X25: =SUM('Claims Payment Report 2026'!X25,'Claims Payment Report 2026'!Z25,'Claims Payment Report 2026'!AB25) -> 0 | Y25: =X25/(SUM(X$24:X$27)) -> #DIV/0! | Z25: =SUM('Claims Payment Report 2026'!Z25,'Claims Payment Report 2026'!AB25,'Claims Payment Report 2026'!AD25) -> 0 | AA25: =Z25/(SUM(Z$24:Z$27)) -> #DIV/0!
A26: 10. Number of Claims Processed 16-30 Days | B26: =SUM('Claims Payment Report 2026'!B26,'Claims Payment Report 2026'!D26,'Claims Payment Report 2026'!F26) -> 0 | C26: =B26/(SUM(B$24:B$27)) -> #DIV/0! | D26: =SUM('Claims Payment Report 2026'!D26,'Claims Payment Report 2026'!F26,'Claims Payment Report 2026'!H26) -> 0 | E26: =D26/(SUM(D$24:D$27)) -> #DIV/0! | F26: =SUM('Claims Payment Report 2026'!F26,'Claims Payment Report 2026'!H26,'Claims Payment Report 2026'!J26) -> 0 | G26: =F26/(SUM(F$24:F$27)) -> #DIV/0! | H26: =SUM('Claims Payment Report 2026'!H26,'Claims Payment Report 2026'!J26,'Claims Payment Report 2026'!L26) -> 0 | I26: =H26/(SUM(H$24:H$27)) -> #DIV/0! | J26: =SUM('Claims Payment Report 2026'!J26,'Claims Payment Report 2026'!L26,'Claims Payment Report 2026'!N26) -> 0 | K26: =J26/(SUM(J$24:J$27)) -> #DIV/0! | L26: =SUM('Claims Payment Report 2026'!L26,'Claims Payment Report 2026'!N26,'Claims Payment Report 2026'!P26) -> 0 | M26: =L26/(SUM(L$24:L$27)) -> #DIV/0! | N26: =SUM('Claims Payment Report 2026'!N26,'Claims Payment Report 2026'!P26,'Claims Payment Report 2026'!R26) -> 0 | O26: =N26/(SUM(N$24:N$27)) -> #DIV/0! | P26: =SUM('Claims Payment Report 2026'!P26,'Claims Payment Report 2026'!R26,'Claims Payment Report 2026'!T26) -> 0 | Q26: =P26/(SUM(P$24:P$27)) -> #DIV/0! | R26: =SUM('Claims Payment Report 2026'!R26,'Claims Payment Report 2026'!T26,'Claims Payment Report 2026'!V26) -> 0 | S26: =R26/(SUM(R$24:R$27)) -> #DIV/0! | T26: =SUM('Claims Payment Report 2026'!T26,'Claims Payment Report 2026'!V26,'Claims Payment Report 2026'!X26) -> 0 | U26: =T26/(SUM(T$24:T$27)) -> #DIV/0! | V26: =SUM('Claims Payment Report 2026'!V26,'Claims Payment Report 2026'!X26,'Claims Payment Report 2026'!Z26) -> 0 | W26: =V26/(SUM(V$24:V$27)) -> #DIV/0! | X26: =SUM('Claims Payment Report 2026'!X26,'Claims Payment Report 2026'!Z26,'Claims Payment Report 2026'!AB26) -> 0 | Y26: =X26/(SUM(X$24:X$27)) -> #DIV/0! | Z26: =SUM('Claims Payment Report 2026'!Z26,'Claims Payment Report 2026'!AB26,'Claims Payment Report 2026'!AD26) -> 0 | AA26: =Z26/(SUM(Z$24:Z$27)) -> #DIV/0!
A27: 11. Number of Claims Processed Over 30 Days | B27: =SUM('Claims Payment Report 2026'!B27,'Claims Payment Report 2026'!D27,'Claims Payment Report 2026'!F27) -> 0 | C27: =B27/(SUM(B$24:B$27)) -> #DIV/0! | D27: =SUM('Claims Payment Report 2026'!D27,'Claims Payment Report 2026'!F27,'Claims Payment Report 2026'!H27) -> 0 | E27: =D27/(SUM(D$24:D$27)) -> #DIV/0! | F27: =SUM('Claims Payment Report 2026'!F27,'Claims Payment Report 2026'!H27,'Claims Payment Report 2026'!J27) -> 0 | G27: =F27/(SUM(F$24:F$27)) -> #DIV/0! | H27: =SUM('Claims Payment Report 2026'!H27,'Claims Payment Report 2026'!J27,'Claims Payment Report 2026'!L27) -> 0 | I27: =H27/(SUM(H$24:H$27)) -> #DIV/0! | J27: =SUM('Claims Payment Report 2026'!J27,'Claims Payment Report 2026'!L27,'Claims Payment Report 2026'!N27) -> 0 | K27: =J27/(SUM(J$24:J$27)) -> #DIV/0! | L27: =SUM('Claims Payment Report 2026'!L27,'Claims Payment Report 2026'!N27,'Claims Payment Report 2026'!P27) -> 0 | M27: =L27/(SUM(L$24:L$27)) -> #DIV/0! | N27: =SUM('Claims Payment Report 2026'!N27,'Claims Payment Report 2026'!P27,'Claims Payment Report 2026'!R27) -> 0 | O27: =N27/(SUM(N$24:N$27)) -> #DIV/0! | P27: =SUM('Claims Payment Report 2026'!P27,'Claims Payment Report 2026'!R27,'Claims Payment Report 2026'!T27) -> 0 | Q27: =P27/(SUM(P$24:P$27)) -> #DIV/0! | R27: =SUM('Claims Payment Report 2026'!R27,'Claims Payment Report 2026'!T27,'Claims Payment Report 2026'!V27) -> 0 | S27: =R27/(SUM(R$24:R$27)) -> #DIV/0! | T27: =SUM('Claims Payment Report 2026'!T27,'Claims Payment Report 2026'!V27,'Claims Payment Report 2026'!X27) -> 0 | U27: =T27/(SUM(T$24:T$27)) -> #DIV/0! | V27: =SUM('Claims Payment Report 2026'!V27,'Claims Payment Report 2026'!X27,'Claims Payment Report 2026'!Z27) -> 0 | W27: =V27/(SUM(V$24:V$27)) -> #DIV/0! | X27: =SUM('Claims Payment Report 2026'!X27,'Claims Payment Report 2026'!Z27,'Claims Payment Report 2026'!AB27) -> 0 | Y27: =X27/(SUM(X$24:X$27)) -> #DIV/0! | Z27: =SUM('Claims Payment Report 2026'!Z27,'Claims Payment Report 2026'!AB27,'Claims Payment Report 2026'!AD27) -> 0 | AA27: =Z27/(SUM(Z$24:Z$27)) -> #DIV/0!
A29: Claims Line Summary | B29: Number | C29: Dollar Amount | D29: Number | E29: Dollar Amount | F29: Number | G29: Dollar Amount | H29: Number | I29: Dollar Amount | J29: Number | K29: Dollar Amount | L29: Number | M29: Dollar Amount | N29: Number | O29: Dollar Amount | P29: Number | Q29: Dollar Amount | R29: Number | S29: Dollar Amount | T29: Number | U29: Dollar Amount | V29: Number | W29: Dollar Amount | X29: Number | Y29: Dollar Amount | Z29: Number | AA29: Dollar Amount
A30: 12. Number of Denied Claim Lines (Administrative) | B30: =SUM('Claims Payment Report 2026'!B30,'Claims Payment Report 2026'!D30,'Claims Payment Report 2026'!F30) -> 0 | C30: =SUM('Claims Payment Report 2026'!C30,'Claims Payment Report 2026'!E30,'Claims Payment Report 2026'!G30) -> 0 | D30: =SUM('Claims Payment Report 2026'!D30,'Claims Payment Report 2026'!F30,'Claims Payment Report 2026'!H30) -> 0 | E30: =SUM('Claims Payment Report 2026'!E30,'Claims Payment Report 2026'!G30,'Claims Payment Report 2026'!I30) -> 0 | F30: =SUM('Claims Payment Report 2026'!F30,'Claims Payment Report 2026'!H30,'Claims Payment Report 2026'!J30) -> 0 | G30: =SUM('Claims Payment Report 2026'!G30,'Claims Payment Report 2026'!I30,'Claims Payment Report 2026'!K30) -> 0 | H30: =SUM('Claims Payment Report 2026'!H30,'Claims Payment Report 2026'!J30,'Claims Payment Report 2026'!L30) -> 0 | I30: =SUM('Claims Payment Report 2026'!I30,'Claims Payment Report 2026'!K30,'Claims Payment Report 2026'!M30) -> 0 | ... AA30: =SUM('Claims Payment Report 2026'!AA30,'Claims Payment Report 2026'!AC30,'Claims Payment Report 2026'!AE30) -> 0
A31: 13. Number of Denied Claim Lines (Clinical) | B31: =SUM('Claims Payment Report 2026'!B31,'Claims Payment Report 2026'!D31,'Claims Payment Report 2026'!F31) -> 0 | C31: =SUM('Claims Payment Report 2026'!C31,'Claims Payment Report 2026'!E31,'Claims Payment Report 2026'!G31) -> 0 | D31: =SUM('Claims Payment Report 2026'!D31,'Claims Payment Report 2026'!F31,'Claims Payment Report 2026'!H31) -> 0 | E31: =SUM('Claims Payment Report 2026'!E31,'Claims Payment Report 2026'!G31,'Claims Payment Report 2026'!I31) -> 0 | F31: =SUM('Claims Payment Report 2026'!F31,'Claims Payment Report 2026'!H31,'Claims Payment Report 2026'!J31) -> 0 | G31: =SUM('Claims Payment Report 2026'!G31,'Claims Payment Report 2026'!I31,'Claims Payment Report 2026'!K31) -> 0 | H31: =SUM('Claims Payment Report 2026'!H31,'Claims Payment Report 2026'!J31,'Claims Payment Report 2026'!L31) -> 0 | I31: =SUM('Claims Payment Report 2026'!I31,'Claims Payment Report 2026'!K31,'Claims Payment Report 2026'!M31) -> 0 | ... AA31: =SUM('Claims Payment Report 2026'!AA31,'Claims Payment Report 2026'!AC31,'Claims Payment Report 2026'!AE31) -> 0
A32: 14. Number of Paid Claim Lines | B32: =SUM('Claims Payment Report 2026'!B32,'Claims Payment Report 2026'!D32,'Claims Payment Report 2026'!F32) -> 0 | C32: =SUM('Claims Payment Report 2026'!C32,'Claims Payment Report 2026'!E32,'Claims Payment Report 2026'!G32) -> 0 | D32: =SUM('Claims Payment Report 2026'!D32,'Claims Payment Report 2026'!F32,'Claims Payment Report 2026'!H32) -> 0 | E32: =SUM('Claims Payment Report 2026'!E32,'Claims Payment Report 2026'!G32,'Claims Payment Report 2026'!I32) -> 0 | F32: =SUM('Claims Payment Report 2026'!F32,'Claims Payment Report 2026'!H32,'Claims Payment Report 2026'!J32) -> 0 | G32: =SUM('Claims Payment Report 2026'!G32,'Claims Payment Report 2026'!I32,'Claims Payment Report 2026'!K32) -> 0 | H32: =SUM('Claims Payment Report 2026'!H32,'Claims Payment Report 2026'!J32,'Claims Payment Report 2026'!L32) -> 0 | I32: =SUM('Claims Payment Report 2026'!I32,'Claims Payment Report 2026'!K32,'Claims Payment Report 2026'!M32) -> 0 | ... AA32: =SUM('Claims Payment Report 2026'!AA32,'Claims Payment Report 2026'!AC32,'Claims Payment Report 2026'!AE32) -> 0
A33: 15. Total Claim Lines | B33: =SUM('Claims Payment Report 2026'!B33,'Claims Payment Report 2026'!D33,'Claims Payment Report 2026'!F33) -> 0 | C33: =SUM('Claims Payment Report 2026'!C33,'Claims Payment Report 2026'!E33,'Claims Payment Report 2026'!G33) -> 0 | D33: =SUM('Claims Payment Report 2026'!D33,'Claims Payment Report 2026'!F33,'Claims Payment Report 2026'!H33) -> 0 | E33: =SUM('Claims Payment Report 2026'!E33,'Claims Payment Report 2026'!G33,'Claims Payment Report 2026'!I33) -> 0 | F33: =SUM('Claims Payment Report 2026'!F33,'Claims Payment Report 2026'!H33,'Claims Payment Report 2026'!J33) -> 0 | G33: =SUM('Claims Payment Report 2026'!G33,'Claims Payment Report 2026'!I33,'Claims Payment Report 2026'!K33) -> 0 | H33: =SUM('Claims Payment Report 2026'!H33,'Claims Payment Report 2026'!J33,'Claims Payment Report 2026'!L33) -> 0 | I33: =SUM('Claims Payment Report 2026'!I33,'Claims Payment Report 2026'!K33,'Claims Payment Report 2026'!M33) -> 0 | ... AA33: =SUM('Claims Payment Report 2026'!AA33,'Claims Payment Report 2026'!AC33,'Claims Payment Report 2026'!AE33) -> 0
A35: Claims Payment Statistics | B35: Number | D35: Number | F35: Number | H35: Number | J35: Number | L35: Number | N35: Number | P35: Number | R35: Number | T35: Number | V35: Number | X35: Number | Z35: Number
A36: 16. Average Paid Time (Stamped Received Date to Paid Date) | B36: =SUM('Claims Payment Report 2026'!B36:G36)/3 -> 0 | D36: =SUM('Claims Payment Report 2026'!D36:I36)/3 -> 0 | F36: =SUM('Claims Payment Report 2026'!F36:K36)/3 -> 0 | H36: =SUM('Claims Payment Report 2026'!H36:M36)/3 -> 0 | J36: =SUM('Claims Payment Report 2026'!J36:O36)/3 -> 0 | L36: =SUM('Claims Payment Report 2026'!L36:Q36)/3 -> 0 | N36: =SUM('Claims Payment Report 2026'!N36:S36)/3 -> 0 | P36: =SUM('Claims Payment Report 2026'!P36:U36)/3 -> 0 | R36: =SUM('Claims Payment Report 2026'!R36:W36)/3 -> 0 | T36: =SUM('Claims Payment Report 2026'!T36:Y36)/3 -> 0 | V36: =SUM('Claims Payment Report 2026'!V36:AA36)/3 -> 0 | X36: =SUM('Claims Payment Report 2026'!X36:AC36)/3 -> 0 | Z36: =SUM('Claims Payment Report 2026'!Z36:AE36)/3 -> 0
A38: Denial Claim Reasons | B38: Number | C38: Percentage | D38: Number | E38: Percentage | F38: Number | G38: Percentage | H38: Number | I38: Percentage | J38: Number | K38: Percentage | L38: Number | M38: Percentage | N38: Number | O38: Percentage | P38: Number | Q38: Percentage | R38: Number | S38: Percentage | T38: Number | U38: Percentage | V38: Number | W38: Percentage | X38: Number | Y38: Percentage | Z38: Number | AA38: Percentage
A39: ='Claims Payment Report 2026'!A39 -> Reason 1 | B39: =SUM('Claims Payment Report 2026'!B39,'Claims Payment Report 2026'!D39,'Claims Payment Report 2026'!F39) -> 0 | C39: =B39/SUM(B$39:B$58) -> #DIV/0! | D39: =SUM('Claims Payment Report 2026'!D39,'Claims Payment Report 2026'!F39,'Claims Payment Report 2026'!H39) -> 0 | E39: =D39/SUM(D$39:D$58) -> #DIV/0! | F39: =SUM('Claims Payment Report 2026'!F39,'Claims Payment Report 2026'!H39,'Claims Payment Report 2026'!J39) -> 0 | G39: =F39/SUM(F$39:F$58) -> #DIV/0! | H39: =SUM('Claims Payment Report 2026'!H39,'Claims Payment Report 2026'!J39,'Claims Payment Report 2026'!L39) -> 0 | I39: =H39/SUM(H$39:H$58) -> #DIV/0! | J39: =SUM('Claims Payment Report 2026'!J39,'Claims Payment Report 2026'!L39,'Claims Payment Report 2026'!N39) -> 0 | K39: =J39/SUM(J$39:J$58) -> #DIV/0! | L39: =SUM('Claims Payment Report 2026'!L39,'Claims Payment Report 2026'!N39,'Claims Payment Report 2026'!P39) -> 0 | M39: =L39/SUM(L$39:L$58) -> #DIV/0! | N39: =SUM('Claims Payment Report 2026'!N39,'Claims Payment Report 2026'!P39,'Claims Payment Report 2026'!R39) -> 0 | O39: =N39/SUM(N$39:N$58) -> #DIV/0! | P39: =SUM('Claims Payment Report 2026'!P39,'Claims Payment Report 2026'!R39,'Claims Payment Report 2026'!T39) -> 0 | Q39: =P39/SUM(P$39:P$58) -> #DIV/0! | R39: =SUM('Claims Payment Report 2026'!R39,'Claims Payment Report 2026'!T39,'Claims Payment Report 2026'!V39) -> 0 | S39: =R39/SUM(R$39:R$58) -> #DIV/0! | T39: =SUM('Claims Payment Report 2026'!T39,'Claims Payment Report 2026'!V39,'Claims Payment Report 2026'!X39) -> 0 | U39: =T39/SUM(T$39:T$58) -> #DIV/0! | V39: =SUM('Claims Payment Report 2026'!V39,'Claims Payment Report 2026'!X39,'Claims Payment Report 2026'!Z39) -> 0 | W39: =V39/SUM(V$39:V$58) -> #DIV/0! | X39: =SUM('Claims Payment Report 2026'!X39,'Claims Payment Report 2026'!Z39,'Claims Payment Report 2026'!AB39) -> 0 | Y39: =X39/SUM(X$39:X$58) -> #DIV/0! | Z39: =SUM('Claims Payment Report 2026'!Z39,'Claims Payment Report 2026'!AB39,'Claims Payment Report 2026'!AD39) -> 0 | AA39: =Z39/SUM(Z$39:Z$58) -> #DIV/0!
A40: ='Claims Payment Report 2026'!A40 -> Reason 2 | B40: =SUM('Claims Payment Report 2026'!B40,'Claims Payment Report 2026'!D40,'Claims Payment Report 2026'!F40) -> 0 | C40: =B40/SUM(B$39:B$58) -> #DIV/0! | D40: =SUM('Claims Payment Report 2026'!D40,'Claims Payment Report 2026'!F40,'Claims Payment Report 2026'!H40) -> 0 | E40: =D40/SUM(D$39:D$58) -> #DIV/0! | F40: =SUM('Claims Payment Report 2026'!F40,'Claims Payment Report 2026'!H40,'Claims Payment Report 2026'!J40) -> 0 | G40: =F40/SUM(F$39:F$58) -> #DIV/0! | H40: =SUM('Claims Payment Report 2026'!H40,'Claims Payment Report 2026'!J40,'Claims Payment Report 2026'!L40) -> 0 | I40: =H40/SUM(H$39:H$58) -> #DIV/0! | J40: =SUM('Claims Payment Report 2026'!J40,'Claims Payment Report 2026'!L40,'Claims Payment Report 2026'!N40) -> 0 | K40: =J40/SUM(J$39:J$58) -> #DIV/0! | L40: =SUM('Claims Payment Report 2026'!L40,'Claims Payment Report 2026'!N40,'Claims Payment Report 2026'!P40) -> 0 | M40: =L40/SUM(L$39:L$58) -> #DIV/0! | N40: =SUM('Claims Payment Report 2026'!N40,'Claims Payment Report 2026'!P40,'Claims Payment Report 2026'!R40) -> 0 | O40: =N40/SUM(N$39:N$58) -> #DIV/0! | P40: =SUM('Claims Payment Report 2026'!P40,'Claims Payment Report 2026'!R40,'Claims Payment Report 2026'!T40) -> 0 | Q40: =P40/SUM(P$39:P$58) -> #DIV/0! | R40: =SUM('Claims Payment Report 2026'!R40,'Claims Payment Report 2026'!T40,'Claims Payment Report 2026'!V40) -> 0 | S40: =R40/SUM(R$39:R$58) -> #DIV/0! | T40: =SUM('Claims Payment Report 2026'!T40,'Claims Payment Report 2026'!V40,'Claims Payment Report 2026'!X40) -> 0 | U40: =T40/SUM(T$39:T$58) -> #DIV/0! | V40: =SUM('Claims Payment Report 2026'!V40,'Claims Payment Report 2026'!X40,'Claims Payment Report 2026'!Z40) -> 0 | W40: =V40/SUM(V$39:V$58) -> #DIV/0! | X40: =SUM('Claims Payment Report 2026'!X40,'Claims Payment Report 2026'!Z40,'Claims Payment Report 2026'!AB40) -> 0 | Y40: =X40/SUM(X$39:X$58) -> #DIV/0! | Z40: =SUM('Claims Payment Report 2026'!Z40,'Claims Payment Report 2026'!AB40,'Claims Payment Report 2026'!AD40) -> 0 | AA40: =Z40/SUM(Z$39:Z$58) -> #DIV/0!
A41: ='Claims Payment Report 2026'!A41 -> Reason 3 | B41: =SUM('Claims Payment Report 2026'!B41,'Claims Payment Report 2026'!D41,'Claims Payment Report 2026'!F41) -> 0 | C41: =B41/SUM(B$39:B$58) -> #DIV/0! | D41: =SUM('Claims Payment Report 2026'!D41,'Claims Payment Report 2026'!F41,'Claims Payment Report 2026'!H41) -> 0 | E41: =D41/SUM(D$39:D$58) -> #DIV/0! | F41: =SUM('Claims Payment Report 2026'!F41,'Claims Payment Report 2026'!H41,'Claims Payment Report 2026'!J41) -> 0 | G41: =F41/SUM(F$39:F$58) -> #DIV/0! | H41: =SUM('Claims Payment Report 2026'!H41,'Claims Payment Report 2026'!J41,'Claims Payment Report 2026'!L41) -> 0 | I41: =H41/SUM(H$39:H$58) -> #DIV/0! | J41: =SUM('Claims Payment Report 2026'!J41,'Claims Payment Report 2026'!L41,'Claims Payment Report 2026'!N41) -> 0 | K41: =J41/SUM(J$39:J$58) -> #DIV/0! | L41: =SUM('Claims Payment Report 2026'!L41,'Claims Payment Report 2026'!N41,'Claims Payment Report 2026'!P41) -> 0 | M41: =L41/SUM(L$39:L$58) -> #DIV/0! | N41: =SUM('Claims Payment Report 2026'!N41,'Claims Payment Report 2026'!P41,'Claims Payment Report 2026'!R41) -> 0 | O41: =N41/SUM(N$39:N$58) -> #DIV/0! | P41: =SUM('Claims Payment Report 2026'!P41,'Claims Payment Report 2026'!R41,'Claims Payment Report 2026'!T41) -> 0 | Q41: =P41/SUM(P$39:P$58) -> #DIV/0! | R41: =SUM('Claims Payment Report 2026'!R41,'Claims Payment Report 2026'!T41,'Claims Payment Report 2026'!V41) -> 0 | S41: =R41/SUM(R$39:R$58) -> #DIV/0! | T41: =SUM('Claims Payment Report 2026'!T41,'Claims Payment Report 2026'!V41,'Claims Payment Report 2026'!X41) -> 0 | U41: =T41/SUM(T$39:T$58) -> #DIV/0! | V41: =SUM('Claims Payment Report 2026'!V41,'Claims Payment Report 2026'!X41,'Claims Payment Report 2026'!Z41) -> 0 | W41: =V41/SUM(V$39:V$58) -> #DIV/0! | X41: =SUM('Claims Payment Report 2026'!X41,'Claims Payment Report 2026'!Z41,'Claims Payment Report 2026'!AB41) -> 0 | Y41: =X41/SUM(X$39:X$58) -> #DIV/0! | Z41: =SUM('Claims Payment Report 2026'!Z41,'Claims Payment Report 2026'!AB41,'Claims Payment Report 2026'!AD41) -> 0 | AA41: =Z41/SUM(Z$39:Z$58) -> #DIV/0!
A42: ='Claims Payment Report 2026'!A42 -> Reason 4 | B42: =SUM('Claims Payment Report 2026'!B42,'Claims Payment Report 2026'!D42,'Claims Payment Report 2026'!F42) -> 0 | C42: =B42/SUM(B$39:B$58) -> #DIV/0! | D42: =SUM('Claims Payment Report 2026'!D42,'Claims Payment Report 2026'!F42,'Claims Payment Report 2026'!H42) -> 0 | E42: =D42/SUM(D$39:D$58) -> #DIV/0! | F42: =SUM('Claims Payment Report 2026'!F42,'Claims Payment Report 2026'!H42,'Claims Payment Report 2026'!J42) -> 0 | G42: =F42/SUM(F$39:F$58) -> #DIV/0! | H42: =SUM('Claims Payment Report 2026'!H42,'Claims Payment Report 2026'!J42,'Claims Payment Report 2026'!L42) -> 0 | I42: =H42/SUM(H$39:H$58) -> #DIV/0! | J42: =SUM('Claims Payment Report 2026'!J42,'Claims Payment Report 2026'!L42,'Claims Payment Report 2026'!N42) -> 0 | K42: =J42/SUM(J$39:J$58) -> #DIV/0! | L42: =SUM('Claims Payment Report 2026'!L42,'Claims Payment Report 2026'!N42,'Claims Payment Report 2026'!P42) -> 0 | M42: =L42/SUM(L$39:L$58) -> #DIV/0! | N42: =SUM('Claims Payment Report 2026'!N42,'Claims Payment Report 2026'!P42,'Claims Payment Report 2026'!R42) -> 0 | O42: =N42/SUM(N$39:N$58) -> #DIV/0! | P42: =SUM('Claims Payment Report 2026'!P42,'Claims Payment Report 2026'!R42,'Claims Payment Report 2026'!T42) -> 0 | Q42: =P42/SUM(P$39:P$58) -> #DIV/0! | R42: =SUM('Claims Payment Report 2026'!R42,'Claims Payment Report 2026'!T42,'Claims Payment Report 2026'!V42) -> 0 | S42: =R42/SUM(R$39:R$58) -> #DIV/0! | T42: =SUM('Claims Payment Report 2026'!T42,'Claims Payment Report 2026'!V42,'Claims Payment Report 2026'!X42) -> 0 | U42: =T42/SUM(T$39:T$58) -> #DIV/0! | V42: =SUM('Claims Payment Report 2026'!V42,'Claims Payment Report 2026'!X42,'Claims Payment Report 2026'!Z42) -> 0 | W42: =V42/SUM(V$39:V$58) -> #DIV/0! | X42: =SUM('Claims Payment Report 2026'!X42,'Claims Payment Report 2026'!Z42,'Claims Payment Report 2026'!AB42) -> 0 | Y42: =X42/SUM(X$39:X$58) -> #DIV/0! | Z42: =SUM('Claims Payment Report 2026'!Z42,'Claims Payment Report 2026'!AB42,'Claims Payment Report 2026'!AD42) -> 0 | AA42: =Z42/SUM(Z$39:Z$58) -> #DIV/0!
A43: ='Claims Payment Report 2026'!A43 -> Reason 5 | B43: =SUM('Claims Payment Report 2026'!B43,'Claims Payment Report 2026'!D43,'Claims Payment Report 2026'!F43) -> 0 | C43: =B43/SUM(B$39:B$58) -> #DIV/0! | D43: =SUM('Claims Payment Report 2026'!D43,'Claims Payment Report 2026'!F43,'Claims Payment Report 2026'!H43) -> 0 | E43: =D43/SUM(D$39:D$58) -> #DIV/0! | F43: =SUM('Claims Payment Report 2026'!F43,'Claims Payment Report 2026'!H43,'Claims Payment Report 2026'!J43) -> 0 | G43: =F43/SUM(F$39:F$58) -> #DIV/0! | H43: =SUM('Claims Payment Report 2026'!H43,'Claims Payment Report 2026'!J43,'Claims Payment Report 2026'!L43) -> 0 | I43: =H43/SUM(H$39:H$58) -> #DIV/0! | J43: =SUM('Claims Payment Report 2026'!J43,'Claims Payment Report 2026'!L43,'Claims Payment Report 2026'!N43) -> 0 | K43: =J43/SUM(J$39:J$58) -> #DIV/0! | L43: =SUM('Claims Payment Report 2026'!L43,'Claims Payment Report 2026'!N43,'Claims Payment Report 2026'!P43) -> 0 | M43: =L43/SUM(L$39:L$58) -> #DIV/0! | N43: =SUM('Claims Payment Report 2026'!N43,'Claims Payment Report 2026'!P43,'Claims Payment Report 2026'!R43) -> 0 | O43: =N43/SUM(N$39:N$58) -> #DIV/0! | P43: =SUM('Claims Payment Report 2026'!P43,'Claims Payment Report 2026'!R43,'Claims Payment Report 2026'!T43) -> 0 | Q43: =P43/SUM(P$39:P$58) -> #DIV/0! | R43: =SUM('Claims Payment Report 2026'!R43,'Claims Payment Report 2026'!T43,'Claims Payment Report 2026'!V43) -> 0 | S43: =R43/SUM(R$39:R$58) -> #DIV/0! | T43: =SUM('Claims Payment Report 2026'!T43,'Claims Payment Report 2026'!V43,'Claims Payment Report 2026'!X43) -> 0 | U43: =T43/SUM(T$39:T$58) -> #DIV/0! | V43: =SUM('Claims Payment Report 2026'!V43,'Claims Payment Report 2026'!X43,'Claims Payment Report 2026'!Z43) -> 0 | W43: =V43/SUM(V$39:V$58) -> #DIV/0! | X43: =SUM('Claims Payment Report 2026'!X43,'Claims Payment Report 2026'!Z43,'Claims Payment Report 2026'!AB43) -> 0 | Y43: =X43/SUM(X$39:X$58) -> #DIV/0! | Z43: =SUM('Claims Payment Report 2026'!Z43,'Claims Payment Report 2026'!AB43,'Claims Payment Report 2026'!AD43) -> 0 | AA43: =Z43/SUM(Z$39:Z$58) -> #DIV/0!
A44: ='Claims Payment Report 2026'!A44 -> Reason 6 | B44: =SUM('Claims Payment Report 2026'!B44,'Claims Payment Report 2026'!D44,'Claims Payment Report 2026'!F44) -> 0 | C44: =B44/SUM(B$39:B$58) -> #DIV/0! | D44: =SUM('Claims Payment Report 2026'!D44,'Claims Payment Report 2026'!F44,'Claims Payment Report 2026'!H44) -> 0 | E44: =D44/SUM(D$39:D$58) -> #DIV/0! | F44: =SUM('Claims Payment Report 2026'!F44,'Claims Payment Report 2026'!H44,'Claims Payment Report 2026'!J44) -> 0 | G44: =F44/SUM(F$39:F$58) -> #DIV/0! | H44: =SUM('Claims Payment Report 2026'!H44,'Claims Payment Report 2026'!J44,'Claims Payment Report 2026'!L44) -> 0 | I44: =H44/SUM(H$39:H$58) -> #DIV/0! | J44: =SUM('Claims Payment Report 2026'!J44,'Claims Payment Report 2026'!L44,'Claims Payment Report 2026'!N44) -> 0 | K44: =J44/SUM(J$39:J$58) -> #DIV/0! | L44: =SUM('Claims Payment Report 2026'!L44,'Claims Payment Report 2026'!N44,'Claims Payment Report 2026'!P44) -> 0 | M44: =L44/SUM(L$39:L$58) -> #DIV/0! | N44: =SUM('Claims Payment Report 2026'!N44,'Claims Payment Report 2026'!P44,'Claims Payment Report 2026'!R44) -> 0 | O44: =N44/SUM(N$39:N$58) -> #DIV/0! | P44: =SUM('Claims Payment Report 2026'!P44,'Claims Payment Report 2026'!R44,'Claims Payment Report 2026'!T44) -> 0 | Q44: =P44/SUM(P$39:P$58) -> #DIV/0! | R44: =SUM('Claims Payment Report 2026'!R44,'Claims Payment Report 2026'!T44,'Claims Payment Report 2026'!V44) -> 0 | S44: =R44/SUM(R$39:R$58) -> #DIV/0! | T44: =SUM('Claims Payment Report 2026'!T44,'Claims Payment Report 2026'!V44,'Claims Payment Report 2026'!X44) -> 0 | U44: =T44/SUM(T$39:T$58) -> #DIV/0! | V44: =SUM('Claims Payment Report 2026'!V44,'Claims Payment Report 2026'!X44,'Claims Payment Report 2026'!Z44) -> 0 | W44: =V44/SUM(V$39:V$58) -> #DIV/0! | X44: =SUM('Claims Payment Report 2026'!X44,'Claims Payment Report 2026'!Z44,'Claims Payment Report 2026'!AB44) -> 0 | Y44: =X44/SUM(X$39:X$58) -> #DIV/0! | Z44: =SUM('Claims Payment Report 2026'!Z44,'Claims Payment Report 2026'!AB44,'Claims Payment Report 2026'!AD44) -> 0 | AA44: =Z44/SUM(Z$39:Z$58) -> #DIV/0!
A45: ='Claims Payment Report 2026'!A45 -> Reason 7 | B45: =SUM('Claims Payment Report 2026'!B45,'Claims Payment Report 2026'!D45,'Claims Payment Report 2026'!F45) -> 0 | C45: =B45/SUM(B$39:B$58) -> #DIV/0! | D45: =SUM('Claims Payment Report 2026'!D45,'Claims Payment Report 2026'!F45,'Claims Payment Report 2026'!H45) -> 0 | E45: =D45/SUM(D$39:D$58) -> #DIV/0! | F45: =SUM('Claims Payment Report 2026'!F45,'Claims Payment Report 2026'!H45,'Claims Payment Report 2026'!J45) -> 0 | G45: =F45/SUM(F$39:F$58) -> #DIV/0! | H45: =SUM('Claims Payment Report 2026'!H45,'Claims Payment Report 2026'!J45,'Claims Payment Report 2026'!L45) -> 0 | I45: =H45/SUM(H$39:H$58) -> #DIV/0! | J45: =SUM('Claims Payment Report 2026'!J45,'Claims Payment Report 2026'!L45,'Claims Payment Report 2026'!N45) -> 0 | K45: =J45/SUM(J$39:J$58) -> #DIV/0! | L45: =SUM('Claims Payment Report 2026'!L45,'Claims Payment Report 2026'!N45,'Claims Payment Report 2026'!P45) -> 0 | M45: =L45/SUM(L$39:L$58) -> #DIV/0! | N45: =SUM('Claims Payment Report 2026'!N45,'Claims Payment Report 2026'!P45,'Claims Payment Report 2026'!R45) -> 0 | O45: =N45/SUM(N$39:N$58) -> #DIV/0! | P45: =SUM('Claims Payment Report 2026'!P45,'Claims Payment Report 2026'!R45,'Claims Payment Report 2026'!T45) -> 0 | Q45: =P45/SUM(P$39:P$58) -> #DIV/0! | R45: =SUM('Claims Payment Report 2026'!R45,'Claims Payment Report 2026'!T45,'Claims Payment Report 2026'!V45) -> 0 | S45: =R45/SUM(R$39:R$58) -> #DIV/0! | T45: =SUM('Claims Payment Report 2026'!T45,'Claims Payment Report 2026'!V45,'Claims Payment Report 2026'!X45) -> 0 | U45: =T45/SUM(T$39:T$58) -> #DIV/0! | V45: =SUM('Claims Payment Report 2026'!V45,'Claims Payment Report 2026'!X45,'Claims Payment Report 2026'!Z45) -> 0 | W45: =V45/SUM(V$39:V$58) -> #DIV/0! | X45: =SUM('Claims Payment Report 2026'!X45,'Claims Payment Report 2026'!Z45,'Claims Payment Report 2026'!AB45) -> 0 | Y45: =X45/SUM(X$39:X$58) -> #DIV/0! | Z45: =SUM('Claims Payment Report 2026'!Z45,'Claims Payment Report 2026'!AB45,'Claims Payment Report 2026'!AD45) -> 0 | AA45: =Z45/SUM(Z$39:Z$58) -> #DIV/0!
A46: ='Claims Payment Report 2026'!A46 -> Reason 8 | B46: =SUM('Claims Payment Report 2026'!B46,'Claims Payment Report 2026'!D46,'Claims Payment Report 2026'!F46) -> 0 | C46: =B46/SUM(B$39:B$58) -> #DIV/0! | D46: =SUM('Claims Payment Report 2026'!D46,'Claims Payment Report 2026'!F46,'Claims Payment Report 2026'!H46) -> 0 | E46: =D46/SUM(D$39:D$58) -> #DIV/0! | F46: =SUM('Claims Payment Report 2026'!F46,'Claims Payment Report 2026'!H46,'Claims Payment Report 2026'!J46) -> 0 | G46: =F46/SUM(F$39:F$58) -> #DIV/0! | H46: =SUM('Claims Payment Report 2026'!H46,'Claims Payment Report 2026'!J46,'Claims Payment Report 2026'!L46) -> 0 | I46: =H46/SUM(H$39:H$58) -> #DIV/0! | J46: =SUM('Claims Payment Report 2026'!J46,'Claims Payment Report 2026'!L46,'Claims Payment Report 2026'!N46) -> 0 | K46: =J46/SUM(J$39:J$58) -> #DIV/0! | L46: =SUM('Claims Payment Report 2026'!L46,'Claims Payment Report 2026'!N46,'Claims Payment Report 2026'!P46) -> 0 | M46: =L46/SUM(L$39:L$58) -> #DIV/0! | N46: =SUM('Claims Payment Report 2026'!N46,'Claims Payment Report 2026'!P46,'Claims Payment Report 2026'!R46) -> 0 | O46: =N46/SUM(N$39:N$58) -> #DIV/0! | P46: =SUM('Claims Payment Report 2026'!P46,'Claims Payment Report 2026'!R46,'Claims Payment Report 2026'!T46) -> 0 | Q46: =P46/SUM(P$39:P$58) -> #DIV/0! | R46: =SUM('Claims Payment Report 2026'!R46,'Claims Payment Report 2026'!T46,'Claims Payment Report 2026'!V46) -> 0 | S46: =R46/SUM(R$39:R$58) -> #DIV/0! | T46: =SUM('Claims Payment Report 2026'!T46,'Claims Payment Report 2026'!V46,'Claims Payment Report 2026'!X46) -> 0 | U46: =T46/SUM(T$39:T$58) -> #DIV/0! | V46: =SUM('Claims Payment Report 2026'!V46,'Claims Payment Report 2026'!X46,'Claims Payment Report 2026'!Z46) -> 0 | W46: =V46/SUM(V$39:V$58) -> #DIV/0! | X46: =SUM('Claims Payment Report 2026'!X46,'Claims Payment Report 2026'!Z46,'Claims Payment Report 2026'!AB46) -> 0 | Y46: =X46/SUM(X$39:X$58) -> #DIV/0! | Z46: =SUM('Claims Payment Report 2026'!Z46,'Claims Payment Report 2026'!AB46,'Claims Payment Report 2026'!AD46) -> 0 | AA46: =Z46/SUM(Z$39:Z$58) -> #DIV/0!
A47: ='Claims Payment Report 2026'!A47 -> Reason 9 | B47: =SUM('Claims Payment Report 2026'!B47,'Claims Payment Report 2026'!D47,'Claims Payment Report 2026'!F47) -> 0 | C47: =B47/SUM(B$39:B$58) -> #DIV/0! | D47: =SUM('Claims Payment Report 2026'!D47,'Claims Payment Report 2026'!F47,'Claims Payment Report 2026'!H47) -> 0 | E47: =D47/SUM(D$39:D$58) -> #DIV/0! | F47: =SUM('Claims Payment Report 2026'!F47,'Claims Payment Report 2026'!H47,'Claims Payment Report 2026'!J47) -> 0 | G47: =F47/SUM(F$39:F$58) -> #DIV/0! | H47: =SUM('Claims Payment Report 2026'!H47,'Claims Payment Report 2026'!J47,'Claims Payment Report 2026'!L47) -> 0 | I47: =H47/SUM(H$39:H$58) -> #DIV/0! | J47: =SUM('Claims Payment Report 2026'!J47,'Claims Payment Report 2026'!L47,'Claims Payment Report 2026'!N47) -> 0 | K47: =J47/SUM(J$39:J$58) -> #DIV/0! | L47: =SUM('Claims Payment Report 2026'!L47,'Claims Payment Report 2026'!N47,'Claims Payment Report 2026'!P47) -> 0 | M47: =L47/SUM(L$39:L$58) -> #DIV/0! | N47: =SUM('Claims Payment Report 2026'!N47,'Claims Payment Report 2026'!P47,'Claims Payment Report 2026'!R47) -> 0 | O47: =N47/SUM(N$39:N$58) -> #DIV/0! | P47: =SUM('Claims Payment Report 2026'!P47,'Claims Payment Report 2026'!R47,'Claims Payment Report 2026'!T47) -> 0 | Q47: =P47/SUM(P$39:P$58) -> #DIV/0! | R47: =SUM('Claims Payment Report 2026'!R47,'Claims Payment Report 2026'!T47,'Claims Payment Report 2026'!V47) -> 0 | S47: =R47/SUM(R$39:R$58) -> #DIV/0! | T47: =SUM('Claims Payment Report 2026'!T47,'Claims Payment Report 2026'!V47,'Claims Payment Report 2026'!X47) -> 0 | U47: =T47/SUM(T$39:T$58) -> #DIV/0! | V47: =SUM('Claims Payment Report 2026'!V47,'Claims Payment Report 2026'!X47,'Claims Payment Report 2026'!Z47) -> 0 | W47: =V47/SUM(V$39:V$58) -> #DIV/0! | X47: =SUM('Claims Payment Report 2026'!X47,'Claims Payment Report 2026'!Z47,'Claims Payment Report 2026'!AB47) -> 0 | Y47: =X47/SUM(X$39:X$58) -> #DIV/0! | Z47: =SUM('Claims Payment Report 2026'!Z47,'Claims Payment Report 2026'!AB47,'Claims Payment Report 2026'!AD47) -> 0 | AA47: =Z47/SUM(Z$39:Z$58) -> #DIV/0!
A48: ='Claims Payment Report 2026'!A48 -> Reason 10 | B48: =SUM('Claims Payment Report 2026'!B48,'Claims Payment Report 2026'!D48,'Claims Payment Report 2026'!F48) -> 0 | C48: =B48/SUM(B$39:B$58) -> #DIV/0! | D48: =SUM('Claims Payment Report 2026'!D48,'Claims Payment Report 2026'!F48,'Claims Payment Report 2026'!H48) -> 0 | E48: =D48/SUM(D$39:D$58) -> #DIV/0! | F48: =SUM('Claims Payment Report 2026'!F48,'Claims Payment Report 2026'!H48,'Claims Payment Report 2026'!J48) -> 0 | G48: =F48/SUM(F$39:F$58) -> #DIV/0! | H48: =SUM('Claims Payment Report 2026'!H48,'Claims Payment Report 2026'!J48,'Claims Payment Report 2026'!L48) -> 0 | I48: =H48/SUM(H$39:H$58) -> #DIV/0! | J48: =SUM('Claims Payment Report 2026'!J48,'Claims Payment Report 2026'!L48,'Claims Payment Report 2026'!N48) -> 0 | K48: =J48/SUM(J$39:J$58) -> #DIV/0! | L48: =SUM('Claims Payment Report 2026'!L48,'Claims Payment Report 2026'!N48,'Claims Payment Report 2026'!P48) -> 0 | M48: =L48/SUM(L$39:L$58) -> #DIV/0! | N48: =SUM('Claims Payment Report 2026'!N48,'Claims Payment Report 2026'!P48,'Claims Payment Report 2026'!R48) -> 0 | O48: =N48/SUM(N$39:N$58) -> #DIV/0! | P48: =SUM('Claims Payment Report 2026'!P48,'Claims Payment Report 2026'!R48,'Claims Payment Report 2026'!T48) -> 0 | Q48: =P48/SUM(P$39:P$58) -> #DIV/0! | R48: =SUM('Claims Payment Report 2026'!R48,'Claims Payment Report 2026'!T48,'Claims Payment Report 2026'!V48) -> 0 | S48: =R48/SUM(R$39:R$58) -> #DIV/0! | T48: =SUM('Claims Payment Report 2026'!T48,'Claims Payment Report 2026'!V48,'Claims Payment Report 2026'!X48) -> 0 | U48: =T48/SUM(T$39:T$58) -> #DIV/0! | V48: =SUM('Claims Payment Report 2026'!V48,'Claims Payment Report 2026'!X48,'Claims Payment Report 2026'!Z48) -> 0 | W48: =V48/SUM(V$39:V$58) -> #DIV/0! | X48: =SUM('Claims Payment Report 2026'!X48,'Claims Payment Report 2026'!Z48,'Claims Payment Report 2026'!AB48) -> 0 | Y48: =X48/SUM(X$39:X$58) -> #DIV/0! | Z48: =SUM('Claims Payment Report 2026'!Z48,'Claims Payment Report 2026'!AB48,'Claims Payment Report 2026'!AD48) -> 0 | AA48: =Z48/SUM(Z$39:Z$58) -> #DIV/0!
A49: ='Claims Payment Report 2026'!A49 -> Reason 11 | B49: =SUM('Claims Payment Report 2026'!B49,'Claims Payment Report 2026'!D49,'Claims Payment Report 2026'!F49) -> 0 | C49: =B49/SUM(B$39:B$58) -> #DIV/0! | D49: =SUM('Claims Payment Report 2026'!D49,'Claims Payment Report 2026'!F49,'Claims Payment Report 2026'!H49) -> 0 | E49: =D49/SUM(D$39:D$58) -> #DIV/0! | F49: =SUM('Claims Payment Report 2026'!F49,'Claims Payment Report 2026'!H49,'Claims Payment Report 2026'!J49) -> 0 | G49: =F49/SUM(F$39:F$58) -> #DIV/0! | H49: =SUM('Claims Payment Report 2026'!H49,'Claims Payment Report 2026'!J49,'Claims Payment Report 2026'!L49) -> 0 | I49: =H49/SUM(H$39:H$58) -> #DIV/0! | J49: =SUM('Claims Payment Report 2026'!J49,'Claims Payment Report 2026'!L49,'Claims Payment Report 2026'!N49) -> 0 | K49: =J49/SUM(J$39:J$58) -> #DIV/0! | L49: =SUM('Claims Payment Report 2026'!L49,'Claims Payment Report 2026'!N49,'Claims Payment Report 2026'!P49) -> 0 | M49: =L49/SUM(L$39:L$58) -> #DIV/0! | N49: =SUM('Claims Payment Report 2026'!N49,'Claims Payment Report 2026'!P49,'Claims Payment Report 2026'!R49) -> 0 | O49: =N49/SUM(N$39:N$58) -> #DIV/0! | P49: =SUM('Claims Payment Report 2026'!P49,'Claims Payment Report 2026'!R49,'Claims Payment Report 2026'!T49) -> 0 | Q49: =P49/SUM(P$39:P$58) -> #DIV/0! | R49: =SUM('Claims Payment Report 2026'!R49,'Claims Payment Report 2026'!T49,'Claims Payment Report 2026'!V49) -> 0 | S49: =R49/SUM(R$39:R$58) -> #DIV/0! | T49: =SUM('Claims Payment Report 2026'!T49,'Claims Payment Report 2026'!V49,'Claims Payment Report 2026'!X49) -> 0 | U49: =T49/SUM(T$39:T$58) -> #DIV/0! | V49: =SUM('Claims Payment Report 2026'!V49,'Claims Payment Report 2026'!X49,'Claims Payment Report 2026'!Z49) -> 0 | W49: =V49/SUM(V$39:V$58) -> #DIV/0! | X49: =SUM('Claims Payment Report 2026'!X49,'Claims Payment Report 2026'!Z49,'Claims Payment Report 2026'!AB49) -> 0 | Y49: =X49/SUM(X$39:X$58) -> #DIV/0! | Z49: =SUM('Claims Payment Report 2026'!Z49,'Claims Payment Report 2026'!AB49,'Claims Payment Report 2026'!AD49) -> 0 | AA49: =Z49/SUM(Z$39:Z$58) -> #DIV/0!
A50: ='Claims Payment Report 2026'!A50 -> Reason 12 | B50: =SUM('Claims Payment Report 2026'!B50,'Claims Payment Report 2026'!D50,'Claims Payment Report 2026'!F50) -> 0 | C50: =B50/SUM(B$39:B$58) -> #DIV/0! | D50: =SUM('Claims Payment Report 2026'!D50,'Claims Payment Report 2026'!F50,'Claims Payment Report 2026'!H50) -> 0 | E50: =D50/SUM(D$39:D$58) -> #DIV/0! | F50: =SUM('Claims Payment Report 2026'!F50,'Claims Payment Report 2026'!H50,'Claims Payment Report 2026'!J50) -> 0 | G50: =F50/SUM(F$39:F$58) -> #DIV/0! | H50: =SUM('Claims Payment Report 2026'!H50,'Claims Payment Report 2026'!J50,'Claims Payment Report 2026'!L50) -> 0 | I50: =H50/SUM(H$39:H$58) -> #DIV/0! | J50: =SUM('Claims Payment Report 2026'!J50,'Claims Payment Report 2026'!L50,'Claims Payment Report 2026'!N50) -> 0 | K50: =J50/SUM(J$39:J$58) -> #DIV/0! | L50: =SUM('Claims Payment Report 2026'!L50,'Claims Payment Report 2026'!N50,'Claims Payment Report 2026'!P50) -> 0 | M50: =L50/SUM(L$39:L$58) -> #DIV/0! | N50: =SUM('Claims Payment Report 2026'!N50,'Claims Payment Report 2026'!P50,'Claims Payment Report 2026'!R50) -> 0 | O50: =N50/SUM(N$39:N$58) -> #DIV/0! | P50: =SUM('Claims Payment Report 2026'!P50,'Claims Payment Report 2026'!R50,'Claims Payment Report 2026'!T50) -> 0 | Q50: =P50/SUM(P$39:P$58) -> #DIV/0! | R50: =SUM('Claims Payment Report 2026'!R50,'Claims Payment Report 2026'!T50,'Claims Payment Report 2026'!V50) -> 0 | S50: =R50/SUM(R$39:R$58) -> #DIV/0! | T50: =SUM('Claims Payment Report 2026'!T50,'Claims Payment Report 2026'!V50,'Claims Payment Report 2026'!X50) -> 0 | U50: =T50/SUM(T$39:T$58) -> #DIV/0! | V50: =SUM('Claims Payment Report 2026'!V50,'Claims Payment Report 2026'!X50,'Claims Payment Report 2026'!Z50) -> 0 | W50: =V50/SUM(V$39:V$58) -> #DIV/0! | X50: =SUM('Claims Payment Report 2026'!X50,'Claims Payment Report 2026'!Z50,'Claims Payment Report 2026'!AB50) -> 0 | Y50: =X50/SUM(X$39:X$58) -> #DIV/0! | Z50: =SUM('Claims Payment Report 2026'!Z50,'Claims Payment Report 2026'!AB50,'Claims Payment Report 2026'!AD50) -> 0 | AA50: =Z50/SUM(Z$39:Z$58) -> #DIV/0!
... A58: ='Claims Payment Report 2026'!A58 -> Reason 20 | B58: =SUM('Claims Payment Report 2026'!B58,'Claims Payment Report 2026'!D58,'Claims Payment Report 2026'!F58) -> 0 | C58: =B58/SUM(B$39:B$58) -> #DIV/0! | D58: =SUM('Claims Payment Report 2026'!D58,'Claims Payment Report 2026'!F58,'Claims Payment Report 2026'!H58) -> 0 | E58: =D58/SUM(D$39:D$58) -> #DIV/0! | F58: =SUM('Claims Payment Report 2026'!F58,'Claims Payment Report 2026'!H58,'Claims Payment Report 2026'!J58) -> 0 | G58: =F58/SUM(F$39:F$58) -> #DIV/0! | H58: =SUM('Claims Payment Report 2026'!H58,'Claims Payment Report 2026'!J58,'Claims Payment Report 2026'!L58) -> 0 | I58: =H58/SUM(H$39:H$58) -> #DIV/0! | J58: =SUM('Claims Payment Report 2026'!J58,'Claims Payment Report 2026'!L58,'Claims Payment Report 2026'!N58) -> 0 | K58: =J58/SUM(J$39:J$58) -> #DIV/0! | L58: =SUM('Claims Payment Report 2026'!L58,'Claims Payment Report 2026'!N58,'Claims Payment Report 2026'!P58) -> 0 | M58: =L58/SUM(L$39:L$58) -> #DIV/0! | N58: =SUM('Claims Payment Report 2026'!N58,'Claims Payment Report 2026'!P58,'Claims Payment Report 2026'!R58) -> 0 | O58: =N58/SUM(N$39:N$58) -> #DIV/0! | P58: =SUM('Claims Payment Report 2026'!P58,'Claims Payment Report 2026'!R58,'Claims Payment Report 2026'!T58) -> 0 | Q58: =P58/SUM(P$39:P$58) -> #DIV/0! | R58: =SUM('Claims Payment Report 2026'!R58,'Claims Payment Report 2026'!T58,'Claims Payment Report 2026'!V58) -> 0 | S58: =R58/SUM(R$39:R$58) -> #DIV/0! | T58: =SUM('Claims Payment Report 2026'!T58,'Claims Payment Report 2026'!V58,'Claims Payment Report 2026'!X58) -> 0 | U58: =T58/SUM(T$39:T$58) -> #DIV/0! | V58: =SUM('Claims Payment Report 2026'!V58,'Claims Payment Report 2026'!X58,'Claims Payment Report 2026'!Z58) -> 0 | W58: =V58/SUM(V$39:V$58) -> #DIV/0! | X58: =SUM('Claims Payment Report 2026'!X58,'Claims Payment Report 2026'!Z58,'Claims Payment Report 2026'!AB58) -> 0 | Y58: =X58/SUM(X$39:X$58) -> #DIV/0! | Z58: =SUM('Claims Payment Report 2026'!Z58,'Claims Payment Report 2026'!AB58,'Claims Payment Report 2026'!AD58) -> 0 | AA58: =Z58/SUM(Z$39:Z$58) -> #DIV/0!

Sheet Sheet8
C2: tbl_ProfandInst_Grouped_RPT_REG_1
C3: CountOfCLCL_ID | D3: SumOfPAID AMT
C4: 50173 | D4: 42946838
C7: CountOfCLCL_ID | D7: SumOfPAID AMT | E7: CLAIM TYPE
C8: 329503 | D8: 38205879 | E8: M
C11: CountOfClaim ID | D11: SumOfTotal Charges
C12: 34639 | D12: 49094559
C15: Month | D15: Plan | E15: Denial Category | F15: Count
C16: 2022/02 | D16: 2400 | E16: Administrative | F16: 59018
C17: 2022/02 | D17: 2400 | E17: Clinical | F17: 9687
C20: Month | D20: Plan | E20: Claims | F20: Dollars
C21: 2022/02 | D21: 2400 | E21: 544432 | F21: 46839917
C24: Month | D24: Plan | E24: Total Claims | F24: Total Processing Days | G24: Avg Processing Days
C25: 2022/02 | D25: 2400 | E25: 268581 | F25: 2052735 | G25: 8

Sheet Sheet1
A1: CountOfCLAIM_ID | B1: SumOfSumOfPAID_AMOUNT
A2: 298463 | B2: 28347692
A3: 61532 | B3: 41756611

Sheet Sheet2
A1: CountOfCLAIM_ID | B1: SumOfSumOfPAID_AMOUNT
A2: 337326 | B2: 36994737
A3: 55703 | B3: 37749845
F5: Month | G5: Plan | H5: Denial Category | I5: Count
F6: 2017/02 | G6: 2400 | H6: Administrative | I6: 75808
F7: 2017/02 | G7: 2400 | H7: Clinical | I7: 12873
A8: CLAIM_TYPE | B8: SumOfSumOfPAID_AMOUNT | F8: 2017/02 | G8: 2403 | H8: Administrative | I8: 3
A9: M | B9: 32990034
A10: H | B10: 31608984
F11: Month | G11: Plan | H11: Claims | I11: Dollars
F12: 2017/02 | G12: 2400 | H12: 788164 | I12: 63849746
A14: CountOfClaim ID
A15: 56418
A20: CountOfCLAIM_ID | B20: SumOfSumOfPAID_AMOUNT | D20: CLAIM_TYPE
A21: 322293 | B21: 33765463 | D21: M
A22: 55154 | B22: 39583263 | D22: H
A26: CountOfClaim ID | B26: SumOfCLCL_TOT_CHG
A27: 61284 | B27: 70384287
A32: CountOfCLAIM_ID | B32: SumOfSumOfPAID_AMOUNT | C32: CLAIM_TYPE
A33: 53221 | B33: 36387007 | C33: H
A34: 305690 | B34: 31840977 | C34: M

Sheet Sheet3
A6: CountOfCLAIM_ID | B6: SumOfSumOfPAID_AMOUNT | C6: CLAIM_TYPE
A7: 304475 | B7: 34649035 | C7: M
A8: 48694 | B8: 39013755 | C8: H
A11: Month | B11: Plan | C11: Denial Category | D11: Count
A12: 2017/06 | B12: 2400 | C12: Administrative | D12: 91047
A13: 2017/06 | B13: 2400 | C13: Clinical | D13: 14908
A14: 2017/06 | B14: 2403 | C14: Administrative | D14: 7
A17: Month | B17: Plan | C17: Claims | D17: Dollars
A18: 2017/06 | B18: 2400 | C18: 693905 | D18: 62162382
A21: Month | B21: Plan | C21: Total Claims | D21: Total Processing Days | E21: Avg Processing Days
A22: 2017/06 | B22: 2400 | C22: 353158 | D22: 1717353 | E22: 4.8628461
A23: 2017/06 | B23: 2403 | C23: 4 | D23: 15 | E23: 3.75
A26: CountOfClaim ID | B26: SumOfCLCL_TOT_CHG
A27: 56797 | B27: 74955303
A30: CountOfCLAIM_ID | B30: SumOfSumOfPAID_AMOUNT | C30: CLAIM_TYPE
A31: 304475 | B31: 34649035 | C31: M
A32: 48694 | B32: 39013755 | C32: H
A38: CountOfClaim ID | B38: SumOfCLCL_TOT_CHG
A39: 59947 | B39: 83714717
A41: Month | B41: Plan | C41: Denial Category | D41: Count
A42: 2017/07 | B42: 2400 | C42: Administrative | D42: 91671
A43: 2017/07 | B43: 2400 | C43: Clinical | D43: 16547
A44: 2017/07 | B44: 2403 | C44: Administrative | D44: 4
A47: Month | B47: Plan | C47: Claims | D47: Dollars
A48: 2017/07 | B48: 2400 | C48: 784702 | D48: 65401185
A51: CountOfMEMBER_ID
A52: 361170
A54: CountOfCLAIM_ID | B54: SumOfSumOfPAID_AMOUNT | C54: CLAIM_TYPE
A55: 299736 | B55: 32455700 | C55: M
A56: 52877 | B56: 35600078 | C56: H

Sheet Sheet4

Sheet AUDIT_2017
A23: This is for July 2017 report, incase of an AUDIT

Sheet Sheet5
A1: CountOfCLAIM_ID | B1: SumOfSumOfPAID_AMOUNT | C1: CLAIM_TYPE
A2: 299376 | B2: 32053455 | C2: M
A3: 53401 | B3: 41207502 | C3: H
A7: CountOfClaim ID | B7: SumOfCLCL_TOT_CHG
A8: 65024 | B8: 82440087
A11: CountOfMEMBER_ID
A12: 359074
A14: CountOfCLAIM_ID | B14: ORIGINAL_CLAIM_ID
A15: 408175
A17: CountOfCLAIM_ID | B17: SumOfSumOfPAID_AMOUNT | C17: CLAIM_TYPE
A18: 311510 | B18: 34437852 | C18: M
A19: 49039 | B19: 37418566 | C19: H
A21: Month | B21: Plan | C21: Denial Category | D21: Count
A22: 2017/09 | B22: 2400 | C22: Administrative | D22: 99803
A23: 2017/09 | B23: 2400 | C23: Clinical | D23: 15648
A24: 2017/09 | B24: 2403 | C24: Administrative | D24: 4
A26: CountOfClaim ID | B26: SumOfCLCL_TOT_CHG
A27: 66040 | B27: 79665554

Sheet Sheet6
A1: CountOfCLAIM_ID | B1: SumOfSumOfPAID_AMOUNT | C1: CLAIM_TYPE
A2: 335086 | B2: 34629088 | C2: M
A3: 58124 | B3: 41687812 | C3: H
A6: CountOfClaim ID | B6: SumOfCLCL_TOT_CHG
A7: 61715 | B7: 83888856
A11: Month | B11: Plan | C11: Denial Category | D11: Count
A12: 2017/11 | B12: 2400 | C12: Administrative | D12: 98516
A13: 2017/11 | B13: 2400 | C13: Clinical | D13: 14805
A14: 2017/11 | B14: 2403 | C14: Administrative | D14: 4
A18: CountOfCLAIM_ID | B18: SumOfSumOfPAID_AMOUNT | C18: CLAIM_TYPE
A19: 320647 | B19: 36071081 | C19: M
A20: 52500 | B20: 40532762 | C20: H
A23: CountOfClaim ID | B23: SumOfCLCL_TOT_CHG
A24: 58175 | B24: 80760901
A28: CountOfCLAIM_ID | B28: SumOfSumOfPAID_AMOUNT | C28: CLAIM_TYPE
A29: 317834 | B29: 35756559 | C29: M
A30: 53286 | B30: 42812716 | C30: H
A32: =SUM(P9:P10) -> 0 | B32: 412672

Sheet Sheet7
